Workbook

Sheet MAIN PRICELIST
A1: SKU | B1: Description | C1: Colour | D1: Category | E1: Range | F1: Range Brochure Page | G1: September 2026 RRP inc VAT | H1: SEPT 2026 EX VAT | I1: New | J1: Esclusiva
A2: TST-406-DB | B2: Stratto Dusky Blue 600mm Wall Hung Unit & Basin - With Tap Hole | C2: Dusky Blue | D2: Furniture | E2: Stratto | F2: 10 | G2: 1385 | H2: 1154.1667 | J2: Esclusiva
A3: TST-406-MW | B3: Stratto Matt White 600mm Wall Hung Unit & Basin - With Tap Hole | C3: Matt White | D3: Furniture | E3: Stratto | F3: 10 | G3: 1385 | H3: 1154.1667 | J3: Esclusiva
A4: TST-406-ST | B4: Stratto Soft Taupe 600mm Wall Hung Unit & Basin - With Tap Hole | C4: Soft Taupe | D4: Furniture | E4: Stratto | F4: 10 | G4: 1385 | H4: 1154.1667 | J4: Esclusiva
A5: TST-406-TB | B5: Stratto Terracotta Blush 600mm Wall Hung Unit & Basin - With Tap Hole | C5: Terracotta Blush | D5: Furniture | E5: Stratto | F5: 10 | G5: 1385 | H5: 1154.1667 | J5: Esclusiva
A6: TST-406-TG | B6: Stratto Tuscan Green 600mm Wall Hung Unit & Basin - With Tap Hole | C6: Tuscan Green | D6: Furniture | E6: Stratto | F6: 10 | G6: 1385 | H6: 1154.1667 | J6: Esclusiva
A7: TST-408-DB | B7: Stratto Dusky Blue 800mm Wall Hung Unit & Basin - With Tap Hole | C7: Dusky Blue | D7: Furniture | E7: Stratto | F7: 10 | G7: 1568 | H7: 1306.6667 | J7: Esclusiva
A8: TST-408-MW | B8: Stratto Matt White 800mm Wall Hung Unit & Basin - With Tap Hole | C8: Matt White | D8: Furniture | E8: Stratto | F8: 10 | G8: 1568 | H8: 1306.6667 | J8: Esclusiva
A9: TST-408-ST | B9: Stratto Soft Taupe 800mm Wall Hung Unit & Basin - With Tap Hole | C9: Soft Taupe | D9: Furniture | E9: Stratto | F9: 10 | G9: 1568 | H9: 1306.6667 | J9: Esclusiva
A10: TST-408-TB | B10: Stratto Terracotta Blush 800mm Wall Hung Unit & Basin - With Tap Hole | C10: Terracotta Blush | D10: Furniture | E10: Stratto | F10: 10 | G10: 1568 | H10: 1306.6667 | J10: Esclusiva
A11: TST-408-TG | B11: Stratto Tuscan Green 800mm Wall Hung Unit & Basin - With Tap Hole | C11: Tuscan Green | D11: Furniture | E11: Stratto | F11: 10 | G11: 1568 | H11: 1306.6667 | J11: Esclusiva
A12: TST-410-DB | B12: Stratto Dusky Blue 1000mm Wall Hung Unit & Basin - With Tap Hole | C12: Dusky Blue | D12: Furniture | E12: Stratto | F12: 10 | G12: 1788 | H12: 1490 | J12: Esclusiva
A13: TST-410-DB-LH | B13: Stratto Dusky Blue 400 + 600 Basin Units & 1000 LH Basin - With Tap Hole | C13: Dusky Blue | D13: Furniture | E13: Stratto | F13: 10 | G13: 2175 | H13: 1812.5 | J13: Esclusiva
... A174: TST-321-MN | B174: Stratto Tall Unit Trim - Matt Black | C174: Matt Black | D174: Furniture | E174: Stratto | F174: 10 | G174: 58 | H174: 48.333333 | J174: Esclusiva
A175: TST-906-MW-CP | B175: Stratto 600 basin unit Matt White + MW Trim + 600 Ceramic basin + CP Shroud | C175: Matt White/ Chrome | D175: Furniture | E175: Stratto | F175: 10 | G175: 1269 | H175: 1057.5 | I175: NEW | J175: Esclusiva
A176: TST-906-ST-CP | B176: Stratto 600 basin unit Soft Taupe + ST Trim + 600 Ceramic basin + CP Shroud | C176: Soft Taupe/ Chrome | D176: Furniture | E176: Stratto | F176: 10 | G176: 1269 | H176: 1057.5 | I176: NEW | J176: Esclusiva
A177: TST-906-DB-CP | B177: Stratto 600 basin unit Dusky Blue + DB Trim + 600 Ceramic basin + CP Shroud | C177: Dusky Blue/ Chrome | D177: Furniture | E177: Stratto | F177: 10 | G177: 1269 | H177: 1057.5 | I177: NEW | J177: Esclusiva
A178: TST-906-TB-CP | B178: Stratto 600 basin unit Terracotta Blush + TB Trim + 600 Ceramic basin + CP Shroud | C178: Terracotta Blush/ Chrome | D178: Furniture | E178: Stratto | F178: 10 | G178: 1269 | H178: 1057.5 | I178: NEW | J178: Esclusiva
A179: TST-906-TG-CP | B179: Stratto 600 basin unit Tuscan Green + TG Trim + 600 Ceramic basin + CP Shroud | C179: Tuscan Green/ Chrome | D179: Furniture | E179: Stratto | F179: 10 | G179: 1269 | H179: 1057.5 | I179: NEW | J179: Esclusiva
A180: TST-908-MW-CP | B180: Stratto 800 basin unit Matt White + MW Trim + 800 Ceramic basin + CP Shroud | C180: Matt White/ Chrome | D180: Furniture | E180: Stratto | F180: 10 | G180: 1416 | H180: 1180 | I180: NEW | J180: Esclusiva
A181: TST-908-ST-CP | B181: Stratto 800 basin unit Soft Taupe + ST Trim + 800 Ceramic basin + CP Shroud | C181: Soft Taupe/ Chrome | D181: Furniture | E181: Stratto | F181: 10 | G181: 1416 | H181: 1180 | I181: NEW | J181: Esclusiva
A182: TST-908-DB-CP | B182: Stratto 800 basin unit Dusky Blue + DB Trim + 800 Ceramic basin + CP Shroud | C182: Dusky Blue/ Chrome | D182: Furniture | E182: Stratto | F182: 10 | G182: 1416 | H182: 1180 | I182: NEW | J182: Esclusiva
A183: TST-908-TB-CP | B183: Stratto 800 basin unit Terracotta Blush + TB Trim + 800 Ceramic basin + CP Shroud | C183: Terracotta Blush/ Chrome | D183: Furniture | E183: Stratto | F183: 10 | G183: 1416 | H183: 1180 | I183: NEW | J183: Esclusiva
A184: TST-908-TG-CP | B184: Stratto 800 basin unit Tuscan Green + TG Trim + 800 Ceramic basin + CP Shroud | C184: Tuscan Green/ Chrome | D184: Furniture | E184: Stratto | F184: 10 | G184: 1416 | H184: 1180 | I184: NEW | J184: Esclusiva
A185: TST-910-MW -CP | B185: Stratto 1000 basin unit Matt White + MW Trim + 1000 Ceramic basin + CP Shroud | C185: Matt White/ Chrome | D185: Furniture | E185: Stratto | F185: 10 | G185: 1655 | H185: 1379.1667 | I185: NEW | J185: Esclusiva
A186: TST-910-ST-CP | B186: Stratto 1000 basin unit Soft Taupe + ST Trim + 1000 Ceramic basin + CP Shroud | C186: Soft Taupe/ Chrome | D186: Furniture | E186: Stratto | F186: 10 | G186: 1655 | H186: 1379.1667 | I186: NEW | J186: Esclusiva
... A234: TST-910-TG-MN | B234: Stratto 1000 basin unit Tuscan Green + TG Trim + 1000 Ceramic basin + MN Shroud | C234: Tuscan Green/ Matt Black | D234: Furniture | E234: Stratto | F234: 10 | G234: 1655 | H234: 1379.1667 | I234: NEW | J234: Esclusiva
A235: TTE-306-ST | B235: Tellao 600mm 2 drawer Basin unit Soft Taupe + Ash handles + 600 basin tap hole | C235: Soft Taupe | D235: Furniture | E235: Tellao | F235: 20 | G235: 1101 | H235: 917.5 | J235: Esclusiva
A236: TTE-306-SB | B236: Tellao 600mm 2 drawer Basin unit Storm Blue + Granite handles + 600 basin tap hole | C236: Storm Blue | D236: Furniture | E236: Tellao | F236: 20 | G236: 1101 | H236: 917.5 | J236: Esclusiva
A237: TTE-406-ST | B237: Tellao 600mm 2 drawer Basin unit Soft Taupe + Ash handles + 600 basin No tap hole | C237: Soft Taupe | D237: Furniture | E237: Tellao | F237: 20 | G237: 1101 | H237: 917.5 | J237: Esclusiva
A238: TTE-406-SB | B238: Tellao 600mm 2 drawer Basin unit Storm Blue + Granite handles + 600 basin No tap hole | C238: Storm Blue | D238: Furniture | E238: Tellao | F238: 20 | G238: 1101 | H238: 917.5 | J238: Esclusiva
A239: TTE-308-ST | B239: Tellao 800mm 2 drawer Basin unit Soft Taupe + Ash handles + 800 basin tap hole | C239: Soft Taupe | D239: Furniture | E239: Tellao | F239: 20 | G239: 1362 | H239: 1135 | J239: Esclusiva
A240: TTE-308-SB | B240: Tellao 800mm 2 drawer Basin unit Storm Blue + Granite handles + 800 basin tap hole | C240: Storm Blue | D240: Furniture | E240: Tellao | F240: 20 | G240: 1362 | H240: 1135 | J240: Esclusiva
A241: TTE-408-ST | B241: Tellao 800mm 2 drawer Basin unit Soft Taupe + Ash handles + 800 basin No tap hole | C241: Soft Taupe | D241: Furniture | E241: Tellao | F241: 20 | G241: 1362 | H241: 1135 | J241: Esclusiva
A242: TTE-408-SB | B242: Tellao 800mm 2 drawer Basin unit Storm Blue + Granite handles + 800 basin No tap hole | C242: Storm Blue | D242: Furniture | E242: Tellao | F242: 20 | G242: 1362 | H242: 1135 | J242: Esclusiva
A243: TTE-310-ST | B243: Tellao 1000mm 2 drawer Basin unit Soft Taupe + Ash handles + 1000 basin tap hole | C243: Soft Taupe | D243: Furniture | E243: Tellao | F243: 20 | G243: 1492 | H243: 1243.3333 | J243: Esclusiva
A244: TTE-310-SB | B244: Tellao 1000mm 2 drawer Basin unit Storm Blue + Granite handles + 1000 basin tap hole | C244: Storm Blue | D244: Furniture | E244: Tellao | F244: 20 | G244: 1492 | H244: 1243.3333 | J244: Esclusiva
A245: TTE-410-ST | B245: Tellao 1000mm 2 drawer Basin unit Soft Taupe + Ash handles + 1000 basin No tap hole | C245: Soft Taupe | D245: Furniture | E245: Tellao | F245: 20 | G245: 1492 | H245: 1243.3333 | J245: Esclusiva
A246: TTE-410-SB | B246: Tellao 1000mm 2 drawer Basin unit Storm Blue + Granite handles + 1000 basin No tap hole | C246: Storm Blue | D246: Furniture | E246: Tellao | F246: 20 | G246: 1492 | H246: 1243.3333 | J246: Esclusiva
... A248: TTE-201-SB | B248: Tellao Tall Unit Storm Blue with Granite handle | C248: Storm Blue | D248: Furniture | E248: Tellao | F248: 20 | G248: 668 | H248: 556.66667 | J248: Esclusiva
...

Sheet Sheet1
A1: Category / Product | B1: Page
A2: Furniture | B2: 8
A3: Stratto | B3: 10 | C3: Esclusiva
A4: Tellao | B4: 20 | C4: Esclusiva
A5: Cosenza | B5: 24 | C5: Esclusiva
A6: Mozzano | B6: 32
A7: Furniture Inserts | B7: 40
A8: Shower Trays | B8: 42
A9: Giorgio2 | B9: 46
A10: Giorgio Lux | B10: 58
A11: Giorgio Wall Panels | B11: 62
A12: Mont | B12: 64 | C12: Esclusiva
A13: Finezza | B13: 70 | C13: Esclusiva
A14: Fiorti | B14: 72
A15: Fiorti Smooth | B15: 72
A16: Shower Enclosures | B16: 80
A17: Tavo | B17: 82 | C17: Esclusiva
A18: Armano Roller | B18: 108
A19: Rivelo | B19: 114
A20: Brassware | B20: 120
A21: Arturo | B21: 122 | C21: Esclusiva
A22: Santuro | B22: 134 | C22: Esclusiva
A23: Sentire | B23: 146
A24: Vario | B24: 150
A25: Shower Niches | B25: 164
A26: Wastes and Fillers | B26: 166
A27: Bathing | B27: 168
A28: Esento | B28: 170 | C28: Esclusiva
A29: Otello | B29: 172 | C29: Esclusiva
A30: Matera | B30: 174
A31: Tanaro | B31: 176
A32: Lorenzo | B32: 178
A33: Angelo | B33: 184
A34: Londra | B34: 188
A35: Messina Bath Screens | B35: 190
A36: Sanitaryware | B36: 192
A37: Vitolo | B37: 194 | C37: Esclusiva
A38: Davoli | B38: 196
A39: Vorta | B39: 202
A40: Nerola | B40: 204
...

Sheet ALL KIT DATA
A1: PARENT | B1: CHILD | C1: CURRENT RRP | D1: In KIT?
A2: INFT-088-BS | B2: TSS-088-BS | C2: =VLOOKUP(B2,'[1]Main Sheet'!$A:$C,3,0) -> #N/A | D2: =IF(COUNTIF(KIT!$A:$A,A2)>0,"Yes","No") -> No
A3: INFT-088-TS | B3: TSS-088-TS | C3: =VLOOKUP(B3,'[1]Main Sheet'!$A:$C,3,0) -> #N/A | D3: =IF(COUNTIF(KIT!$A:$A,A3)>0,"Yes","No") -> No
A4: INFT-088-WS | B4: TSS-088-WS | C4: =VLOOKUP(B4,'[1]Main Sheet'!$A:$C,3,0) -> #N/A | D4: =IF(COUNTIF(KIT!$A:$A,A4)>0,"Yes","No") -> No
A5: INFT-099-BS | B5: TSS-099-BS | C5: =VLOOKUP(B5,'[1]Main Sheet'!$A:$C,3,0) -> #N/A | D5: =IF(COUNTIF(KIT!$A:$A,A5)>0,"Yes","No") -> No
A6: INFT-099-TS | B6: TSS-099-TS | C6: =VLOOKUP(B6,'[1]Main Sheet'!$A:$C,3,0) -> #N/A | D6: =IF(COUNTIF(KIT!$A:$A,A6)>0,"Yes","No") -> No
A7: INFT-099-WS | B7: TSS-099-WS | C7: =VLOOKUP(B7,'[1]Main Sheet'!$A:$C,3,0) -> #N/A | D7: =IF(COUNTIF(KIT!$A:$A,A7)>0,"Yes","No") -> No
A8: INFT-107-BS | B8: TSS-107-BS | C8: =VLOOKUP(B8,'[1]Main Sheet'!$A:$C,3,0) -> #N/A | D8: =IF(COUNTIF(KIT!$A:$A,A8)>0,"Yes","No") -> No
A9: INFT-107-TS | B9: TSS-107-TS | C9: =VLOOKUP(B9,'[1]Main Sheet'!$A:$C,3,0) -> #N/A | D9: =IF(COUNTIF(KIT!$A:$A,A9)>0,"Yes","No") -> No
A10: INFT-107-WS | B10: TSS-107-WS | C10: =VLOOKUP(B10,'[1]Main Sheet'!$A:$C,3,0) -> #N/A | D10: =IF(COUNTIF(KIT!$A:$A,A10)>0,"Yes","No") -> No
A11: INFT-108-BS | B11: TSS-108-BS | C11: =VLOOKUP(B11,'[1]Main Sheet'!$A:$C,3,0) -> #N/A | D11: =IF(COUNTIF(KIT!$A:$A,A11)>0,"Yes","No") -> No
A12: INFT-108-TS | B12: TSS-108-TS | C12: =VLOOKUP(B12,'[1]Main Sheet'!$A:$C,3,0) -> #N/A | D12: =IF(COUNTIF(KIT!$A:$A,A12)>0,"Yes","No") -> No
A13: INFT-108-WS | B13: TSS-108-WS | C13: =VLOOKUP(B13,'[1]Main Sheet'!$A:$C,3,0) -> #N/A | D13: =IF(COUNTIF(KIT!$A:$A,A13)>0,"Yes","No") -> No
... A2940: TMK-824 | B2940: TMK-711 | C2940: =VLOOKUP(B2940,'[1]Main Sheet'!$A:$C,3,0) -> #N/A | D2940: =IF(COUNTIF(KIT!$A:$A,A2940)>0,"Yes","No") -> No
A2941: TMK-825-ALL | B2941: TMK-825-AN | C2941: =VLOOKUP(B2941,'[1]Main Sheet'!$A:$C,3,0) -> #N/A | D2941: =IF(COUNTIF(KIT!$A:$A,A2941)>0,"Yes","No") -> No | E2941: 46203
A2942: TMK-825-ALL | B2942: TMK-825-AR | C2942: =VLOOKUP(B2942,'[1]Main Sheet'!$A:$C,3,0) -> #N/A | D2942: =IF(COUNTIF(KIT!$A:$A,A2942)>0,"Yes","No") -> No
A2943: TMK-825-ALL | B2943: TMK-825-LG | C2943: =VLOOKUP(B2943,'[1]Main Sheet'!$A:$C,3,0) -> #N/A | D2943: =IF(COUNTIF(KIT!$A:$A,A2943)>0,"Yes","No") -> No | E2943: 46203
A2944: TMK-825-ALL | B2944: TMK-825-MB | C2944: =VLOOKUP(B2944,'[1]Main Sheet'!$A:$C,3,0) -> #N/A | D2944: =IF(COUNTIF(KIT!$A:$A,A2944)>0,"Yes","No") -> No
A2945: TMK-825-ALL | B2945: TMK-825-MN | C2945: =VLOOKUP(B2945,'[1]Main Sheet'!$A:$C,3,0) -> #N/A | D2945: =IF(COUNTIF(KIT!$A:$A,A2945)>0,"Yes","No") -> No
A2946: TMK-835 | B2946: TMK-706-AN | C2946: =VLOOKUP(B2946,'[1]Main Sheet'!$A:$C,3,0) -> #N/A | D2946: =IF(COUNTIF(KIT!$A:$A,A2946)>0,"Yes","No") -> No
A2947: TMK-835 | B2947: TMK-706-AR | C2947: =VLOOKUP(B2947,'[1]Main Sheet'!$A:$C,3,0) -> #N/A | D2947: =IF(COUNTIF(KIT!$A:$A,A2947)>0,"Yes","No") -> No
A2948: TMK-835 | B2948: TMK-706-LG | C2948: =VLOOKUP(B2948,'[1]Main Sheet'!$A:$C,3,0) -> #N/A | D2948: =IF(COUNTIF(KIT!$A:$A,A2948)>0,"Yes","No") -> No
A2949: TMK-835 | B2949: TMK-706-MB | C2949: =VLOOKUP(B2949,'[1]Main Sheet'!$A:$C,3,0) -> #N/A | D2949: =IF(COUNTIF(KIT!$A:$A,A2949)>0,"Yes","No") -> No
A2950: TMK-835 | B2950: TMK-706-MN | C2950: =VLOOKUP(B2950,'[1]Main Sheet'!$A:$C,3,0) -> #N/A | D2950: =IF(COUNTIF(KIT!$A:$A,A2950)>0,"Yes","No") -> No
A2951: TMK-835 | B2951: TMK-706-MST | C2951: =VLOOKUP(B2951,'[1]Main Sheet'!$A:$C,3,0) -> #N/A | D2951: =IF(COUNTIF(KIT!$A:$A,A2951)>0,"Yes","No") -> No
A2952: TMK-836 | B2952: TMK-706-AN | C2952: =VLOOKUP(B2952,'[1]Main Sheet'!$A:$C,3,0) -> #N/A | D2952: =IF(COUNTIF(KIT!$A:$A,A2952)>0,"Yes","No") -> No
A2953: TMK-836 | B2953: TMK-706-LG | C2953: =VLOOKUP(B2953,'[1]Main Sheet'!$A:$C,3,0) -> #N/A | D2953: =IF(COUNTIF(KIT!$A:$A,A2953)>0,"Yes","No") -> No
A2954: TMK-836 | B2954: TMK-706-MB | C2954: =VLOOKUP(B2954,'[1]Main Sheet'!$A:$C,3,0) -> #N/A | D2954: =IF(COUNTIF(KIT!$A:$A,A2954)>0,"Yes","No") -> No
A2955: TMK-841-BB | B2955: TAT-105-BB | C2955: =VLOOKUP(B2955,'[1]Main Sheet'!$A:$C,3,0) -> 145.57 | D2955: =IF(COUNTIF(KIT!$A:$A,A2955)>0,"Yes","No") -> No
... A3587: TPI-502-CP | B3587: TPI-204-CP | C3587: =VLOOKUP(B3587,'[1]Main Sheet'!$A:$C,3,0) -> 25 | D3587: =IF(COUNTIF(KIT!$A:$A,A3587)>0,"Yes","No") -> No
A3588: TPI-502-CP | B3588: TPI-207-CP | C3588: =VLOOKUP(B3588,'[1]Main Sheet'!$A:$C,3,0) -> 54.1667 | D3588: =IF(COUNTIF(KIT!$A:$A,A3588)>0,"Yes","No") -> No | E3588: 46203
A3589: TPI-502-MN | B3589: TPI-203-MN | C3589: =VLOOKUP(B3589,'[1]Main Sheet'!$A:$C,3,0) -> 41.6667 | D3589: =IF(COUNTIF(KIT!$A:$A,A3589)>0,"Yes","No") -> No
A3590: TPI-502-MN | B3590: TPI-204-MN | C3590: =VLOOKUP(B3590,'[1]Main Sheet'!$A:$C,3,0) -> #N/A | D3590: =IF(COUNTIF(KIT!$A:$A,A3590)>0,"Yes","No") -> No
A3591: TPI-502-MN | B3591: TPI-207-MN | C3591: =VLOOKUP(B3591,'[1]Main Sheet'!$A:$C,3,0) -> #N/A | D3591: =IF(COUNTIF(KIT!$A:$A,A3591)>0,"Yes","No") -> No
A3592: TPI-503-BB | B3592: TPI-201-BB | C3592: =VLOOKUP(B3592,'[1]Main Sheet'!$A:$C,3,0) -> 83.3333 | D3592: =IF(COUNTIF(KIT!$A:$A,A3592)>0,"Yes","No") -> No
A3593: TPI-503-BB | B3593: TPI-203-BB | C3593: =VLOOKUP(B3593,'[1]Main Sheet'!$A:$C,3,0) -> 41.6667 | D3593: =IF(COUNTIF(KIT!$A:$A,A3593)>0,"Yes","No") -> No
A3594: TPI-503-BB | B3594: TPI-205-BB | C3594: =VLOOKUP(B3594,'[1]Main Sheet'!$A:$C,3,0) -> 37.5 | D3594: =IF(COUNTIF(KIT!$A:$A,A3594)>0,"Yes","No") -> No
A3595: TPI-503-BN | B3595: TPI-201-BN | C3595: =VLOOKUP(B3595,'[1]Main Sheet'!$A:$C,3,0) -> 83.3333 | D3595: =IF(COUNTIF(KIT!$A:$A,A3595)>0,"Yes","No") -> No
A3596: TPI-503-BN | B3596: TPI-203-BN | C3596: =VLOOKUP(B3596,'[1]Main Sheet'!$A:$C,3,0) -> 41.6667 | D3596: =IF(COUNTIF(KIT!$A:$A,A3596)>0,"Yes","No") -> No
A3597: TPI-503-BN | B3597: TPI-205-BN | C3597: =VLOOKUP(B3597,'[1]Main Sheet'!$A:$C,3,0) -> 37.5 | D3597: =IF(COUNTIF(KIT!$A:$A,A3597)>0,"Yes","No") -> No
...

Sheet NONE KIT
A1: SKU | B1: Description | C1: Colour | D1: Category | E1: Range | F1: Range Brochure Page | G1: March 2026 RRP Ex VAT | H1: March 2026 RRP | I1: New? | J1: Esclusiva | K1: GTIN | L1: Suggested % increase in RRP FROM CL Sheet | M1: ROUND UP September 2026 RRP | N1: EX VAT | O1: INCREASE CHECK | P1: MATCH
A2: TST-306-BB | B2: Stratto 600 Basin Unit Trim - Brushed Brass | C2: Brushed Brass | D2: Furniture | E2: Stratto | F2: 10 | G2: 71.666667 | H2: 86 | J2: Esclusiva | K2: 5061025554478 | L2: 0 | M2: =ROUND((H2*(100%+L2)),0) -> 86 | N2: =M2/1.2 -> 71.666667 | O2: =(M2-H2)/H2 -> 0 | P2: =MATCH(O2,L2) -> 1
A3: TST-306-BN | B3: Stratto 600 Basin Unit Trim - Brushed Nickel | C3: Brushed Nickel | D3: Furniture | E3: Stratto | F3: 10 | G3: 71.666667 | H3: 86 | J3: Esclusiva | K3: 5056838907979 | L3: 0 | M3: =ROUND((H3*(100%+L3)),0) -> 86 | N3: =M3/1.2 -> 71.666667 | O3: =(M3-H3)/H3 -> 0 | P3: =MATCH(O3,L3) -> 1
A4: TST-306-MN | B4: Stratto 600 Basin Unit Trim - Matt Black | C4: Matt Black | D4: Furniture | E4: Stratto | F4: 10 | G4: 71.666667 | H4: 86 | J4: Esclusiva | K4: 5061025554485 | L4: 0.06 | M4: =ROUND((H4*(100%+L4)),0) -> 91 | N4: =M4/1.2 -> 75.833333 | O4: =(M4-H4)/H4 -> 0.058139535 | P4: =MATCH(O4,L4) -> #N/A
A5: TST-308-BB | B5: Stratto 800 Basin Unit Trim - Brushed Brass | C5: Brushed Brass | D5: Furniture | E5: Stratto | F5: 10 | G5: 109.16667 | H5: 131 | J5: Esclusiva | K5: 5061025554492 | L5: 0 | M5: =ROUND((H5*(100%+L5)),0) -> 131 | N5: =M5/1.2 -> 109.16667 | O5: =(M5-H5)/H5 -> 0 | P5: =MATCH(O5,L5) -> 1
A6: TST-308-BN | B6: Stratto 800 Basin Unit Trim - Brushed Nickel | C6: Brushed Nickel | D6: Furniture | E6: Stratto | F6: 10 | G6: 109.16667 | H6: 131 | J6: Esclusiva | K6: 5056838907986 | L6: 0 | M6: =ROUND((H6*(100%+L6)),0) -> 131 | N6: =M6/1.2 -> 109.16667 | O6: =(M6-H6)/H6 -> 0 | P6: =MATCH(O6,L6) -> 1
A7: TST-308-MN | B7: Stratto 800 Basin Unit Trim - Matt Black | C7: Matt Black | D7: Furniture | E7: Stratto | F7: 10 | G7: 109.16667 | H7: 131 | J7: Esclusiva | K7: 5061025554508 | L7: 0.06 | M7: =ROUND((H7*(100%+L7)),0) -> 139 | N7: =M7/1.2 -> 115.83333 | O7: =(M7-H7)/H7 -> 0.061068702 | P7: =MATCH(O7,L7) -> 1
A8: TST-310-BB | B8: Stratto 1000 Basin Unit Trim - Brushed Brass | C8: Brushed Brass | D8: Furniture | E8: Stratto | F8: 10 | G8: 134.16667 | H8: 161 | J8: Esclusiva | K8: 5061025554515 | L8: 0 | M8: =ROUND((H8*(100%+L8)),0) -> 161 | N8: =M8/1.2 -> 134.16667 | O8: =(M8-H8)/H8 -> 0 | P8: =MATCH(O8,L8) -> 1
A9: TST-310-BN | B9: Stratto 1000 Basin Unit Trim - Brushed Nickel | C9: Brushed Nickel | D9: Furniture | E9: Stratto | F9: 10 | G9: 134.16667 | H9: 161 | J9: Esclusiva | K9: 5056838907993 | L9: 0 | M9: =ROUND((H9*(100%+L9)),0) -> 161 | N9: =M9/1.2 -> 134.16667 | O9: =(M9-H9)/H9 -> 0 | P9: =MATCH(O9,L9) -> 1
A10: TST-310-MN | B10: Stratto 1000 Basin Unit Trim - Matt Black | C10: Matt Black | D10: Furniture | E10: Stratto | F10: 10 | G10: 134.16667 | H10: 161 | J10: Esclusiva | K10: 5061025554522 | L10: 0.06 | M10: =ROUND((H10*(100%+L10)),0) -> 171 | N10: =M10/1.2 -> 142.5 | O10: =(M10-H10)/H10 -> 0.062111801 | P10: =MATCH(O10,L10) -> 1
A11: TST-312-BB | B11: Stratto 1200 Basin Unit Trim - Brushed Brass | C11: Brushed Brass | D11: Furniture | E11: Stratto | F11: 10 | G11: 159.16667 | H11: 191 | J11: Esclusiva | K11: 5061025554539 | L11: 0 | M11: =ROUND((H11*(100%+L11)),0) -> 191 | N11: =M11/1.2 -> 159.16667 | O11: =(M11-H11)/H11 -> 0 | P11: =MATCH(O11,L11) -> 1
A12: TST-314-BB | B12: Stratto 1400 Basin Unit Trim - Brushed Brass | C12: Brushed Brass | D12: Furniture | E12: Stratto | F12: 10 | G12: 185 | H12: 222 | J12: Esclusiva | K12: 5061025554553 | L12: 0 | M12: =ROUND((H12*(100%+L12)),0) -> 222 | N12: =M12/1.2 -> 185 | O12: =(M12-H12)/H12 -> 0 | P12: =MATCH(O12,L12) -> 1
A13: TST-601-DB | B13: Stratto Tall Unit - Dusky Blue | C13: Dusky Blue | D13: Furniture | E13: Stratto | F13: 10 | G13: 702.5 | H13: 843 | J13: Esclusiva | K13: 5056838908020 | L13: 0.06 | M13: =ROUND((H13*(100%+L13)),0) -> 894 | N13: =M13/1.2 -> 745 | O13: =(M13-H13)/H13 -> 0.060498221 | P13: =MATCH(O13,L13) -> 1
... A23: TCS-402-MN | B23: Pair of Cosenza Basin Unit Legs Matt Black - 1 x straight, 1 x with towel hanger | C23: Matt Black | D23: Furniture | E23: Cosenza | F23: 22 | G23: 169.16667 | H23: 203 | J23: Esclusiva | K23: 5056838908136 | L23: 0.03 | M23: =ROUND((H23*(100%+L23)),0) -> 209 | N23: =M23/1.2 -> 174.16667 | O23: =(M23-H23)/H23 -> 0.02955665 | P23: =MATCH(O23,L23) -> #N/A
A24: TMZ-101-BU | B24: Mozzano 600 Basin Unit - Midnight Blue | C24: Midnight Blue | D24: Furniture | E24: Mozzano | F24: 30 | G24: 582.5 | H24: 699 | K24: 5061025551040 | L24: 0.05 | M24: =ROUND((H24*(100%+L24)),0) -> 734 | N24: =M24/1.2 -> 611.66667 | O24: =(M24-H24)/H24 -> 0.050071531 | P24: =MATCH(O24,L24) -> 1
A25: TMZ-101-MG | B25: Mozzano 600 Basin Unit - Matt Grey | C25: Matt Grey | D25: Furniture | E25: Mozzano | F25: 30 | G25: 582.5 | H25: 699 | K25: 5060848444126 | L25: 0.05 | M25: =ROUND((H25*(100%+L25)),0) -> 734 | N25: =M25/1.2 -> 611.66667 | O25: =(M25-H25)/H25 -> 0.050071531 | P25: =MATCH(O25,L25) -> 1
A26: TMZ-101-MW | B26: Mozzano 600 Basin Unit - Matt White | C26: Matt White | D26: Furniture | E26: Mozzano | F26: 30 | G26: 582.5 | H26: 699 | K26: 5060848444133 | L26: 0.05 | M26: =ROUND((H26*(100%+L26)),0) -> 734 | N26: =M26/1.2 -> 611.66667 | O26: =(M26-H26)/H26 -> 0.050071531 | P26: =MATCH(O26,L26) -> 1
A27: TMZ-101-SG | B27: Mozzano 600 Basin Unit - Sila Green | C27: Sila Green | D27: Furniture | E27: Mozzano | F27: 30 | G27: 582.5 | H27: 699 | K27: 5061025551033 | L27: 0.05 | M27: =ROUND((H27*(100%+L27)),0) -> 734 | N27: =M27/1.2 -> 611.66667 | O27: =(M27-H27)/H27 -> 0.050071531 | P27: =MATCH(O27,L27) -> 1
A28: TMZ-101-ST | B28: Mozzano 600 Basin Unit - Soft Taupe | C28: Soft Taupe | D28: Furniture | E28: Mozzano | F28: 30 | G28: 582.5 | H28: 699 | K28: 5056838908662 | L28: 0.05 | M28: =ROUND((H28*(100%+L28)),0) -> 734 | N28: =M28/1.2 -> 611.66667 | O28: =(M28-H28)/H28 -> 0.050071531 | P28: =MATCH(O28,L28) -> 1
A29: TMZ-101-WH | B29: Mozzano 600 Basin Unit - Gloss White | C29: Gloss White | D29: Furniture | E29: Mozzano | F29: 30 | G29: 582.5 | H29: 699 | K29: 5060848444140 | L29: 0.05 | M29: =ROUND((H29*(100%+L29)),0) -> 734 | N29: =M29/1.2 -> 611.66667 | O29: =(M29-H29)/H29 -> 0.050071531 | P29: =MATCH(O29,L29) -> 1
A30: TMZ-102-BU | B30: Mozzano 800 Basin Unit - Midnight Blue | C30: Midnight Blue | D30: Furniture | E30: Mozzano | F30: 30 | G30: 632.5 | H30: 759 | K30: 5061025551064 | L30: 0.05 | M30: =ROUND((H30*(100%+L30)),0) -> 797 | N30: =M30/1.2 -> 664.16667 | O30: =(M30-H30)/H30 -> 0.050065876 | P30: =MATCH(O30,L30) -> 1
A31: TMZ-102-MG | B31: Mozzano 800 Basin Unit - Matt Grey | C31: Matt Grey | D31: Furniture | E31: Mozzano | F31: 30 | G31: 632.5 | H31: 759 | K31: 5060848444164 | L31: 0.05 | M31: =ROUND((H31*(100%+L31)),0) -> 797 | N31: =M31/1.2 -> 664.16667 | O31: =(M31-H31)/H31 -> 0.050065876 | P31: =MATCH(O31,L31) -> 1
A32: TMZ-102-MW | B32: Mozzano 800 Basin Unit - Matt White | C32: Matt White | D32: Furniture | E32: Mozzano | F32: 30 | G32: 632.5 | H32: 759 | K32: 5060848444171 | L32: 0.05 | M32: =ROUND((H32*(100%+L32)),0) -> 797 | N32: =M32/1.2 -> 664.16667 | O32: =(M32-H32)/H32 -> 0.050065876 | P32: =MATCH(O32,L32) -> 1
A33: TMZ-102-SG | B33: Mozzano 800 Basin Unit - Sila Green | C33: Sila Green | D33: Furniture | E33: Mozzano | F33: 30 | G33: 632.5 | H33: 759 | K33: 5061025551057 | L33: 0.05 | M33: =ROUND((H33*(100%+L33)),0) -> 797 | N33: =M33/1.2 -> 664.16667 | O33: =(M33-H33)/H33 -> 0.050065876 | P33: =MATCH(O33,L33) -> 1
A34: TMZ-102-ST | B34: Mozzano 800 Basin Unit - Soft Taupe | C34: Soft Taupe | D34: Furniture | E34: Mozzano | F34: 30 | G34: 632.5 | H34: 759 | K34: 5056838908679 | L34: 0.05 | M34: =ROUND((H34*(100%+L34)),0) -> 797 | N34: =M34/1.2 -> 664.16667 | O34: =(M34-H34)/H34 -> 0.050065876 | P34: =MATCH(O34,L34) -> 1
A35: TMZ-102-WH | B35: Mozzano 800 Basin Unit - Gloss White | C35: Gloss White | D35: Furniture | E35: Mozzano | F35: 30 | G35: 632.5 | H35: 759 | K35: 5060848444188 | L35: 0.05 | M35: =ROUND((H35*(100%+L35)),0) -> 797 | N35: =M35/1.2 -> 664.16667 | O35: =(M35-H35)/H35 -> 0.050065876 | P35: =MATCH(O35,L35) -> 1
... A91: TWC-101-BU | B91: Back To Wall WC Unit and Worktop - Midnight Blue | C91: Midnight Blue | D91: Furniture | E91: WC Units | F91: 37 | G91: 225 | H91: 270 | K91: 5061025553235 | L91: 0.03 | M91: =ROUND((H91*(100%+L91)),0) -> 278 | N91: =M91/1.2 -> 231.66667 | O91: =(M91-H91)/H91 -> 0.02962963 | P91: =MATCH(O91,L91) -> #N/A
A92: TWC-101-LO | B92: WC Unit - Light Oak | C92: Light Oak | D92: Furniture | E92: WC Units | F92: 37 | G92: 225 | H92: 270 | J92: Esclusiva | K92: 5061025553563 | L92: 0.03 | M92: =ROUND((H92*(100%+L92)),0) -> 278 | N92: =M92/1.2 -> 231.66667 | O92: =(M92-H92)/H92 -> 0.02962963 | P92: =MATCH(O92,L92) -> #N/A
A93: TWC-101-MG | B93: Back To Wall WC Unit and Worktop - Matt Grey | C93: Matt Grey | D93: Furniture | E93: WC Units | F93: 37 | G93: 225 | H93: 270 | K93: 5061025553211 | L93: 0.03 | M93: =ROUND((H93*(100%+L93)),0) -> 278 | N93: =M93/1.2 -> 231.66667 | O93: =(M93-H93)/H93 -> 0.02962963 | P93: =MATCH(O93,L93) -> #N/A
A94: TWC-101-MW | B94: Back To Wall WC Unit and Worktop - Matt White | C94: Matt White | D94: Furniture | E94: WC Units | F94: 37 | G94: 225 | H94: 270 | K94: 5061025553204 | L94: 0.03 | M94: =ROUND((H94*(100%+L94)),0) -> 278 | N94: =M94/1.2 -> 231.66667 | O94: =(M94-H94)/H94 -> 0.02962963 | P94: =MATCH(O94,L94) -> #N/A
A95: TWC-101-NO | B95: WC Unit - Natural Oak | C95: Natural Oak | D95: Furniture | E95: WC Units | F95: 37 | G95: 225 | H95: 270 | J95: Esclusiva | K95: 5061025553556 | L95: 0.03 | M95: =ROUND((H95*(100%+L95)),0) -> 278 | N95: =M95/1.2 -> 231.66667 | O95: =(M95-H95)/H95 -> 0.02962963 | P95: =MATCH(O95,L95) -> #N/A
A96: TWC-101-SG | B96: Back To Wall WC Unit and Worktop - Sage Green | C96: Sage Green | D96: Furniture | E96: WC Units | F96: 37 | G96: 225 | H96: 270 | K96: 5061025553242 | L96: 0.03 | M96: =ROUND((H96*(100%+L96)),0) -> 278 | N96: =M96/1.2 -> 231.66667 | O96: =(M96-H96)/H96 -> 0.02962963 | P96: =MATCH(O96,L96) -> #N/A
A97: TWC-101-ST | B97: Back To Wall WC Unit and Worktop - Soft Taupe | C97: Soft Taupe | D97: Furniture | E97: WC Units | F97: 37 | G97: 225 | H97: 270 | K97: 5061025553228 | L97: 0.03 | M97: =ROUND((H97*(100%+L97)),0) -> 278 | N97: =M97/1.2 -> 231.66667 | O97: =(M97-H97)/H97 -> 0.02962963 | P97: =MATCH(O97,L97) -> #N/A
A98: TUN-401 | B98: L Shape Furniture Organiser | D98: Furniture | E98: Furniture Inserts | F98: 38 | G98: 40 | H98: 48 | K98: 5056838922712 | L98: 0 | M98: =ROUND((H98*(100%+L98)),0) -> 48 | N98: =M98/1.2 -> 40 | O98: =(M98-H98)/H98 -> 0 | P98: =MATCH(O98,L98) -> 1
A99: TRG-402-GS | B99: Giorgio2 Rectangle Shower Tray 900 x 700 Grey Slate | C99: Grey Slate | D99: Showering | E99: Giorgio2 | F99: 42 | G99: 465 | H99: 558 | K99: 5060485536789 | L99: 0.04 | M99: =ROUND((H99*(100%+L99)),0) -> 580 | N99: =M99/1.2 -> 483.33333 | O99: =(M99-H99)/H99 -> 0.039426523 | P99: =MATCH(O99,L99) -> #N/A
A100: TRG-402-RS | B100: Giorgio2 Rectangle Shower Tray 900 x 700 Graphite Slate | C100: Graphite Slate | D100: Showering | E100: Giorgio2 | F100: 42 | G100: 465 | H100: 558 | K100: 5060848449763 | L100: 0.04 | M100: =ROUND((H100*(100%+L100)),0) -> 580 | N100: =M100/1.2 -> 483.33333 | O100: =(M100-H100)/H100 -> 0.039426523 | P100: =MATCH(O100,L100) -> #N/A
A101: TRG-402-ST | B101: Giorgio2 Rectangle Shower Tray 900 x 700 Soft Taupe Slate | C101: Soft Taupe Slate | D101: Showering | E101: Giorgio2 | F101: 42 | G101: 465 | H101: 558 | K101: 5061025552016 | L101: 0.04 | M101: =ROUND((H101*(100%+L101)),0) -> 580 | N101: =M101/1.2 -> 483.33333 | O101: =(M101-H101)/H101 -> 0.039426523 | P101: =MATCH(O101,L101) -> #N/A
A102: TRG-402-WS | B102: Giorgio2 Rectangle Shower Tray 900 x 700 White Slate | C102: White Slate | D102: Showering | E102: Giorgio2 | F102: 42 | G102: 465 | H102: 558 | K102: 5060485536277 | L102: 0.04 | M102: =ROUND((H102*(100%+L102)),0) -> 580 | N102: =M102/1.2 -> 483.33333 | O102: =(M102-H102)/H102 -> 0.039426523 | P102: =MATCH(O102,L102) -> #N/A
A103: TRG-404-GS | B103: Giorgio2 Rectangle Shower Tray 1200 x 700 Grey Slate | C103: Grey Slate | D103: Showering | E103: Giorgio2 | F103: 42 | G103: 524.16667 | H103: 629 | K103: 5060485536802 | L103: 0.05 | M103: =ROUND((H103*(100%+L103)),0) -> 660 | N103: =M103/1.2 -> 550 | O103: =(M103-H103)/H103 -> 0.049284579 | P103: =MATCH(O103,L103) -> #N/A
A104: TRG-404-MN | B104: Giorgio2 Rectangle Shower Tray 1200 x 700 Black Slate | C104: Black Slate | D104: Showering | E104: Giorgio2 | F104: 42 | G104: 524.16667 | H104: 629 | K104: 5060848442023 | L104: 0.05 | M104: =ROUND((H104*(100%+L104)),0) -> 660 | N104: =M104/1.2 -> 550 | O104: =(M104-H104)/H104 -> 0.049284579 | P104: =MATCH(O104,L104) -> #N/A
...

Sheet KIT
A1: SKU | B1: Description | C1: Colour | D1: Category | E1: Range | F1: Range Brochure Page | G1: March 2026 RRP Ex VAT | H1: March 2026 RRP | I1: New? | J1: Esclusiva | K1: GTIN | L1: Suggested % increase in RRP FROM CL Sheet | M1: September 2026 RRP
A2: TST-406-DB | B2: Stratto Dusky Blue 600mm Wall Hung Unit & Basin - With Tap Hole | C2: Dusky Blue | D2: Furniture | E2: Stratto | F2: 10 | G2: 1099.1667 | H2: 1319 | J2: Esclusiva | K2: 5061025553600 | L2: KIT
A3: TST-406-MW | B3: Stratto Matt White 600mm Wall Hung Unit & Basin - With Tap Hole | C3: Matt White | D3: Furniture | E3: Stratto | F3: 10 | G3: 1099.1667 | H3: 1319 | J3: Esclusiva | K3: 5061025553570 | L3: KIT
A4: TST-406-ST | B4: Stratto Soft Taupe 600mm Wall Hung Unit & Basin - With Tap Hole | C4: Soft Taupe | D4: Furniture | E4: Stratto | F4: 10 | G4: 1099.1667 | H4: 1319 | J4: Esclusiva | K4: 5061025553587 | L4: KIT
A5: TST-406-TB | B5: Stratto Terracotta Blush 600mm Wall Hung Unit & Basin - With Tap Hole | C5: Terracotta Blush | D5: Furniture | E5: Stratto | F5: 10 | G5: 1099.1667 | H5: 1319 | J5: Esclusiva | K5: 5061025553594 | L5: KIT
A6: TST-406-TG | B6: Stratto Tuscan Green 600mm Wall Hung Unit & Basin - With Tap Hole | C6: Tuscan Green | D6: Furniture | E6: Stratto | F6: 10 | G6: 1099.1667 | H6: 1319 | J6: Esclusiva | K6: 5061025553617 | L6: KIT
A7: TST-408-DB | B7: Stratto Dusky Blue 800mm Wall Hung Unit & Basin - With Tap Hole | C7: Dusky Blue | D7: Furniture | E7: Stratto | F7: 10 | G7: 1244.1667 | H7: 1493 | J7: Esclusiva | K7: 5061025553709 | L7: KIT
A8: TST-408-MW | B8: Stratto Matt White 800mm Wall Hung Unit & Basin - With Tap Hole | C8: Matt White | D8: Furniture | E8: Stratto | F8: 10 | G8: 1244.1667 | H8: 1493 | J8: Esclusiva | K8: 5061025553679 | L8: KIT
A9: TST-408-ST | B9: Stratto Soft Taupe 800mm Wall Hung Unit & Basin - With Tap Hole | C9: Soft Taupe | D9: Furniture | E9: Stratto | F9: 10 | G9: 1244.1667 | H9: 1493 | J9: Esclusiva | K9: 5061025553686 | L9: KIT
A10: TST-408-TB | B10: Stratto Terracotta Blush 800mm Wall Hung Unit & Basin - With Tap Hole | C10: Terracotta Blush | D10: Furniture | E10: Stratto | F10: 10 | G10: 1244.1667 | H10: 1493 | J10: Esclusiva | K10: 5061025553693 | L10: KIT
A11: TST-408-TG | B11: Stratto Tuscan Green 800mm Wall Hung Unit & Basin - With Tap Hole | C11: Tuscan Green | D11: Furniture | E11: Stratto | F11: 10 | G11: 1244.1667 | H11: 1493 | J11: Esclusiva | K11: 5061025553716 | L11: KIT
A12: TST-410-DB | B12: Stratto Dusky Blue 1000mm Wall Hung Unit & Basin - With Tap Hole | C12: Dusky Blue | D12: Furniture | E12: Stratto | F12: 10 | G12: 1419.1667 | H12: 1703 | J12: Esclusiva | K12: 5056838906972 | L12: KIT
A13: TST-410-DB-LH | B13: Stratto Dusky Blue 400 + 600 Basin Units & 1000 LH Basin - With Tap Hole | C13: Dusky Blue | D13: Furniture | E13: Stratto | F13: 10 | G13: 1725.8333 | H13: 2071 | J13: Esclusiva | K13: 5056838906989 | L13: KIT
... A282: TCS-661-ST-MN | B282: Cosenza 1200 Floorstanding Matt Soft Taupe Basin Unit with Matt Black Handles | C282: Soft Taupe/Black Handles | D282: Furniture | E282: Cosenza | F282: 22 | G282: 1200.8333 | H282: 1441 | J282: Esclusiva | K282: 5056838905708 | L282: KIT
A283: TMZ-103-SG | B283: Mozzano 500 Basin Unit - Sila Green | C283: Sila Green | D283: Furniture | E283: Mozzano | F283: 30 | G283: 533.33333 | H283: 640 | K283: 5061025551071 | L283: KIT
A284: TMZ-105-MW | B284: Mozzano 800 Basin Unit 390mm Depth - Soft Taupe | C284: Soft Taupe | D284: Furniture | E284: Mozzano | F284: 30 | G284: 589.16667 | H284: 707 | K284: 5061025551170 | L284: KIT
A285: TMZ-301-BU-LH | B285: Mozzano Cloakroom Furniture Unit - Midnight Blue Left Hand | C285: Midnight Blue | D285: Furniture | E285: Mozzano | F285: 30 | G285: 263.33333 | H285: 316 | K285: 5061025551286 | L285: KIT
A286: TMZ-301-WH-LH | B286: Mozzano Cloakroom Furniture Unit - Gloss White Left Hand | C286: Gloss White | D286: Furniture | E286: Mozzano | F286: 30 | G286: 263.33333 | H286: 316 | K286: 5056838908723 | L286: KIT
A287: TMZ-301-WH-RH | B287: Mozzano Cloakroom Furniture Unit - Gloss White Right Hand | C287: Gloss White | D287: Furniture | E287: Mozzano | F287: 30 | G287: 263.33333 | H287: 316 | K287: 5056838908730 | L287: KIT
A288: TON-208 | B288: Oriana 800mm Cast Marble Basin - No Tap Hole | C288: Cast Marble | D288: Furniture | E288: Oriana | F288: 37 | G288: 354.16667 | H288: 425 | K288: 5056838922859 | L288: KIT
A289: TWC-101-DB | B289: WC Unit - Dusky Blue | C289: Dusky Blue | D289: Furniture | E289: WC Units | F289: 37 | G289: 225 | H289: 270 | J289: Esclusiva | K289: 5056838908839 | L289: KIT
A290: TWC-101-TB | B290: WC Unit - Terracotta Blush | C290: Terracotta Blush | D290: Furniture | E290: WC Units | F290: 37 | G290: 225 | H290: 270 | J290: Esclusiva | K290: 5056838908846 | L290: KIT
A291: TWC-101-TG | B291: WC Unit - Tuscan Green | C291: Tuscan Green | D291: Furniture | E291: WC Units | F291: 37 | G291: 225 | H291: 270 | J291: Esclusiva | K291: 5056838908853 | L291: KIT
A292: TWC-101-WH | B292: Back To Wall WC Unit and Worktop - Gloss White | C292: Gloss White | D292: Furniture | E292: WC Units | F292: 37 | G292: 225 | H292: 270 | K292: 5061025553198 | L292: KIT
A293: TUN-402 | B293: Furniture Organiser Box | D293: Furniture | E293: Furniture Inserts | F293: 38 | G293: 40 | H293: 48 | K293: 5056838922729 | L293: KIT
A294: TUN-403 | B294: 2 Compartment Furniture Organiser | D294: Furniture | E294: Furniture Inserts | F294: 38 | G294: 40 | H294: 48 | K294: 5056838922736 | L294: KIT
A295: TUN-404 | B295: 3 Compartment Furniture Organiser | D295: Furniture | E295: Furniture Inserts | F295: 38 | G295: 40 | H295: 48 | K295: 5056838922743 | L295: KIT
A296: TRG-402-MN | B296: Giorgio2 Rectangle Shower Tray 900 x 700 Black Slate | C296: Black Slate | D296: Showering | E296: Giorgio2 | F296: 42 | G296: 465 | H296: 558 | K296: 5060848442016 | L296: KIT
A297: TRG-406-GS | B297: Giorgio2 Rectangle Shower Tray 1500 x 700 Grey Slate | C297: Grey Slate | D297: Showering | E297: Giorgio2 | F297: 42 | G297: 607.5 | H297: 729 | K297: 5060485536826 | L297: KIT
A298: TRG-406-MN | B298: Giorgio2 Rectangle Shower Tray 1500 x 700 Black Slate | C298: Black Slate | D298: Showering | E298: Giorgio2 | F298: 42 | G298: 607.5 | H298: 729 | K298: 5060848442047 | L298: KIT
A299: TRG-407-MN | B299: Giorgio2 Rectangle Shower Tray 1600 x 700 Black Slate | C299: Black Slate | D299: Showering | E299: Giorgio2 | F299: 42 | G299: 635.83333 | H299: 763 | K299: 5060848442054 | L299: KIT
A300: TRG-409-GS | B300: Giorgio2 Rectangle Shower Tray 1800 x 700 Grey Slate | C300: Grey Slate | D300: Showering | E300: Giorgio2 | F300: 42 | G300: 772.5 | H300: 927 | K300: 5060485536857 | L300: KIT
A301: TRG-410-MN | B301: Giorgio2 Rectangle Shower Tray 1900 x 700 Black Slate | C301: Black Slate | D301: Showering | E301: Giorgio2 | F301: 42 | G301: 816.66667 | H301: 980 | K301: 5060848442085 | L301: KIT
A302: TRG-410-RS | B302: Giorgio2 Rectangle Shower Tray 1900 x 700 Graphite Slate | C302: Graphite Slate | D302: Showering | E302: Giorgio2 | F302: 42 | G302: 816.66667 | H302: 980 | K302: 5060848449831 | L302: KIT
A303: TRG-411-GS | B303: Giorgio2 Rectangle Shower Tray 2000 x 700 Grey Slate | C303: Grey Slate | D303: Showering | E303: Giorgio2 | F303: 42 | G303: 865 | H303: 1038 | K303: 5060485536871 | L303: KIT
A304: TRG-411-RS | B304: Giorgio2 Rectangle Shower Tray 2000 x 700 Graphite Slate | C304: Graphite Slate | D304: Showering | E304: Giorgio2 | F304: 42 | G304: 865 | H304: 1038 | K304: 5060848449848 | L304: KIT
A305: TRG-411-ST | B305: Giorgio2 Rectangle Shower Tray 2000 x 700 Soft Taupe Slate | C305: Soft Taupe Slate | D305: Showering | E305: Giorgio2 | F305: 42 | G305: 865 | H305: 1038 | K305: 5061025552092 | L305: KIT
A306: TRG-432-RS | B306: Giorgio2 Rectangle Shower Tray 900 x 800 Graphite Slate | C306: Graphite Slate | D306: Showering | E306: Giorgio2 | F306: 42 | G306: 497.5 | H306: 597 | K306: 5060848449862 | L306: KIT
A307: TRG-472-GS | B307: Giorgio2 Rectangle Shower Tray 2200 x 900 Grey Slate | C307: Grey Slate | D307: Showering | E307: Giorgio2 | F307: 42 | G307: 1202.5 | H307: 1443 | K307: 5060485537113 | L307: KIT
... A340: TRG-671-WS | B340: Giorgio Wall Panel 800 x 2400 White Slate | C340: White Slate | D340: Showering | E340: Giorgio Wall Panels | F340: 56 | G340: 334.16667 | H340: 401 | K340: 5056838916186 | L340: KIT
...
