Workbook

Sheet MAIN PRICELIST
A1: SKU | B1: Description | C1: Colour | D1: Category | E1: Range | F1: Range Brochure Page | G1: September 2026 RRP inc VAT | H1: SEPT 2026 EX VAT | I1: New | J1: Esclusiva
A2: TST-406-DB | B2: Stratto Dusky Blue 600mm Wall Hung Unit & Basin - With Tap Hole | C2: Dusky Blue | D2: Furniture | E2: Stratto | F2: 10 | G2: 1385 | H2: 1154.1667 | J2: Esclusiva
A3: TST-406-MW | B3: Stratto Matt White 600mm Wall Hung Unit & Basin - With Tap Hole | C3: Matt White | D3: Furniture | E3: Stratto | F3: 10 | G3: 1385 | H3: 1154.1667 | J3: Esclusiva
A4: TST-406-ST | B4: Stratto Soft Taupe 600mm Wall Hung Unit & Basin - With Tap Hole | C4: Soft Taupe | D4: Furniture | E4: Stratto | F4: 10 | G4: 1385 | H4: 1154.1667 | J4: Esclusiva
A5: TST-406-TB | B5: Stratto Terracotta Blush 600mm Wall Hung Unit & Basin - With Tap Hole | C5: Terracotta Blush | D5: Furniture | E5: Stratto | F5: 10 | G5: 1385 | H5: 1154.1667 | J5: Esclusiva
A6: TST-406-TG | B6: Stratto Tuscan Green 600mm Wall Hung Unit & Basin - With Tap Hole | C6: Tuscan Green | D6: Furniture | E6: Stratto | F6: 10 | G6: 1385 | H6: 1154.1667 | J6: Esclusiva
A7: TST-408-DB | B7: Stratto Dusky Blue 800mm Wall Hung Unit & Basin - With Tap Hole | C7: Dusky Blue | D7: Furniture | E7: Stratto | F7: 10 | G7: 1568 | H7: 1306.6667 | J7: Esclusiva
A8: TST-408-MW | B8: Stratto Matt White 800mm Wall Hung Unit & Basin - With Tap Hole | C8: Matt White | D8: Furniture | E8: Stratto | F8: 10 | G8: 1568 | H8: 1306.6667 | J8: Esclusiva
A9: TST-408-ST | B9: Stratto Soft Taupe 800mm Wall Hung Unit & Basin - With Tap Hole | C9: Soft Taupe | D9: Furniture | E9: Stratto | F9: 10 | G9: 1568 | H9: 1306.6667 | J9: Esclusiva
A10: TST-408-TB | B10: Stratto Terracotta Blush 800mm Wall Hung Unit & Basin - With Tap Hole | C10: Terracotta Blush | D10: Furniture | E10: Stratto | F10: 10 | G10: 1568 | H10: 1306.6667 | J10: Esclusiva
A11: TST-408-TG | B11: Stratto Tuscan Green 800mm Wall Hung Unit & Basin - With Tap Hole | C11: Tuscan Green | D11: Furniture | E11: Stratto | F11: 10 | G11: 1568 | H11: 1306.6667 | J11: Esclusiva
A12: TST-410-DB | B12: Stratto Dusky Blue 1000mm Wall Hung Unit & Basin - With Tap Hole | C12: Dusky Blue | D12: Furniture | E12: Stratto | F12: 10 | G12: 1788 | H12: 1490 | J12: Esclusiva
A13: TST-410-DB-LH | B13: Stratto Dusky Blue 400 + 600 Basin Units & 1000 LH Basin - With Tap Hole | C13: Dusky Blue | D13: Furniture | E13: Stratto | F13: 10 | G13: 2175 | H13: 1812.5 | J13: Esclusiva
... A174: TST-321-MN | B174: Stratto Tall Unit Trim - Matt Black | C174: Matt Black | D174: Furniture | E174: Stratto | F174: 10 | G174: 58 | H174: 48.333333 | J174: Esclusiva
A175: TST-906-MW-CP | B175: Stratto 600 basin unit Matt White + MW Trim + 600 Ceramic basin + CP Shroud | C175: Matt White/ Chrome | D175: Furniture | E175: Stratto | F175: 10 | G175: 1269 | H175: 1057.5 | I175: NEW | J175: Esclusiva
A176: TST-906-ST-CP | B176: Stratto 600 basin unit Soft Taupe + ST Trim + 600 Ceramic basin + CP Shroud | C176: Soft Taupe/ Chrome | D176: Furniture | E176: Stratto | F176: 10 | G176: 1269 | H176: 1057.5 | I176: NEW | J176: Esclusiva
A177: TST-906-DB-CP | B177: Stratto 600 basin unit Dusky Blue + DB Trim + 600 Ceramic basin + CP Shroud | C177: Dusky Blue/ Chrome | D177: Furniture | E177: Stratto | F177: 10 | G177: 1269 | H177: 1057.5 | I177: NEW | J177: Esclusiva
A178: TST-906-TB-CP | B178: Stratto 600 basin unit Terracotta Blush + TB Trim + 600 Ceramic basin + CP Shroud | C178: Terracotta Blush/ Chrome | D178: Furniture | E178: Stratto | F178: 10 | G178: 1269 | H178: 1057.5 | I178: NEW | J178: Esclusiva
A179: TST-906-TG-CP | B179: Stratto 600 basin unit Tuscan Green + TG Trim + 600 Ceramic basin + CP Shroud | C179: Tuscan Green/ Chrome | D179: Furniture | E179: Stratto | F179: 10 | G179: 1269 | H179: 1057.5 | I179: NEW | J179: Esclusiva
A180: TST-908-MW-CP | B180: Stratto 800 basin unit Matt White + MW Trim + 800 Ceramic basin + CP Shroud | C180: Matt White/ Chrome | D180: Furniture | E180: Stratto | F180: 10 | G180: 1416 | H180: 1180 | I180: NEW | J180: Esclusiva
A181: TST-908-ST-CP | B181: Stratto 800 basin unit Soft Taupe + ST Trim + 800 Ceramic basin + CP Shroud | C181: Soft Taupe/ Chrome | D181: Furniture | E181: Stratto | F181: 10 | G181: 1416 | H181: 1180 | I181: NEW | J181: Esclusiva
A182: TST-908-DB-CP | B182: Stratto 800 basin unit Dusky Blue + DB Trim + 800 Ceramic basin + CP Shroud | C182: Dusky Blue/ Chrome | D182: Furniture | E182: Stratto | F182: 10 | G182: 1416 | H182: 1180 | I182: NEW | J182: Esclusiva
A183: TST-908-TB-CP | B183: Stratto 800 basin unit Terracotta Blush + TB Trim + 800 Ceramic basin + CP Shroud | C183: Terracotta Blush/ Chrome | D183: Furniture | E183: Stratto | F183: 10 | G183: 1416 | H183: 1180 | I183: NEW | J183: Esclusiva
A184: TST-908-TG-CP | B184: Stratto 800 basin unit Tuscan Green + TG Trim + 800 Ceramic basin + CP Shroud | C184: Tuscan Green/ Chrome | D184: Furniture | E184: Stratto | F184: 10 | G184: 1416 | H184: 1180 | I184: NEW | J184: Esclusiva
A185: TST-910-MW -CP | B185: Stratto 1000 basin unit Matt White + MW Trim + 1000 Ceramic basin + CP Shroud | C185: Matt White/ Chrome | D185: Furniture | E185: Stratto | F185: 10 | G185: 1655 | H185: 1379.1667 | I185: NEW | J185: Esclusiva
A186: TST-910-ST-CP | B186: Stratto 1000 basin unit Soft Taupe + ST Trim + 1000 Ceramic basin + CP Shroud | C186: Soft Taupe/ Chrome | D186: Furniture | E186: Stratto | F186: 10 | G186: 1655 | H186: 1379.1667 | I186: NEW | J186: Esclusiva
... A234: TST-910-TG-MN | B234: Stratto 1000 basin unit Tuscan Green + TG Trim + 1000 Ceramic basin + MN Shroud | C234: Tuscan Green/ Matt Black | D234: Furniture | E234: Stratto | F234: 10 | G234: 1655 | H234: 1379.1667 | I234: NEW | J234: Esclusiva
A235: TTE-306-ST | B235: Tellao 600mm 2 drawer Basin unit Soft Taupe + Ash handles + 600 basin tap hole | C235: Soft Taupe | D235: Furniture | E235: Tellao | F235: 20 | G235: 1101 | H235: 917.5 | J235: Esclusiva
A236: TTE-306-SB | B236: Tellao 600mm 2 drawer Basin unit Storm Blue + Granite handles + 600 basin tap hole | C236: Storm Blue | D236: Furniture | E236: Tellao | F236: 20 | G236: 1101 | H236: 917.5 | J236: Esclusiva
A237: TTE-406-ST | B237: Tellao 600mm 2 drawer Basin unit Soft Taupe + Ash handles + 600 basin No tap hole | C237: Soft Taupe | D237: Furniture | E237: Tellao | F237: 20 | G237: 1101 | H237: 917.5 | J237: Esclusiva
A238: TTE-406-SB | B238: Tellao 600mm 2 drawer Basin unit Storm Blue + Granite handles + 600 basin No tap hole | C238: Storm Blue | D238: Furniture | E238: Tellao | F238: 20 | G238: 1101 | H238: 917.5 | J238: Esclusiva
A239: TTE-308-ST | B239: Tellao 800mm 2 drawer Basin unit Soft Taupe + Ash handles + 800 basin tap hole | C239: Soft Taupe | D239: Furniture | E239: Tellao | F239: 20 | G239: 1362 | H239: 1135 | J239: Esclusiva
A240: TTE-308-SB | B240: Tellao 800mm 2 drawer Basin unit Storm Blue + Granite handles + 800 basin tap hole | C240: Storm Blue | D240: Furniture | E240: Tellao | F240: 20 | G240: 1362 | H240: 1135 | J240: Esclusiva
A241: TTE-408-ST | B241: Tellao 800mm 2 drawer Basin unit Soft Taupe + Ash handles + 800 basin No tap hole | C241: Soft Taupe | D241: Furniture | E241: Tellao | F241: 20 | G241: 1362 | H241: 1135 | J241: Esclusiva
A242: TTE-408-SB | B242: Tellao 800mm 2 drawer Basin unit Storm Blue + Granite handles + 800 basin No tap hole | C242: Storm Blue | D242: Furniture | E242: Tellao | F242: 20 | G242: 1362 | H242: 1135 | J242: Esclusiva
A243: TTE-310-ST | B243: Tellao 1000mm 2 drawer Basin unit Soft Taupe + Ash handles + 1000 basin tap hole | C243: Soft Taupe | D243: Furniture | E243: Tellao | F243: 20 | G243: 1492 | H243: 1243.3333 | J243: Esclusiva
A244: TTE-310-SB | B244: Tellao 1000mm 2 drawer Basin unit Storm Blue + Granite handles + 1000 basin tap hole | C244: Storm Blue | D244: Furniture | E244: Tellao | F244: 20 | G244: 1492 | H244: 1243.3333 | J244: Esclusiva
A245: TTE-410-ST | B245: Tellao 1000mm 2 drawer Basin unit Soft Taupe + Ash handles + 1000 basin No tap hole | C245: Soft Taupe | D245: Furniture | E245: Tellao | F245: 20 | G245: 1492 | H245: 1243.3333 | J245: Esclusiva
A246: TTE-410-SB | B246: Tellao 1000mm 2 drawer Basin unit Storm Blue + Granite handles + 1000 basin No tap hole | C246: Storm Blue | D246: Furniture | E246: Tellao | F246: 20 | G246: 1492 | H246: 1243.3333 | J246: Esclusiva
... A248: TTE-201-SB | B248: Tellao Tall Unit Storm Blue with Granite handle | C248: Storm Blue | D248: Furniture | E248: Tellao | F248: 20 | G248: 668 | H248: 556.66667 | J248: Esclusiva
A249: TTE-506-ST-CP | B249: Tellao 600mm 2 drawer Basin unit Soft Taupe + Ash handles + 600 ceramic basin + CP shroud | C249: Soft Taupe / Chrome | D249: Furniture | E249: Tellao | F249: 20 | G249: 885 | H249: 737.5 | I249: NEW | J249: Esclusiva
A250: TTE-506-SB-CP | B250: Tellao 600mm 2 drawer Basin unit Storm Blue + Granite handles + 600 ceramic basin + CP shroud | C250: Storm Blue / Chrome | D250: Furniture | E250: Tellao | F250: 20 | G250: 885 | H250: 737.5 | I250: NEW | J250: Esclusiva
A251: TTE-508-ST-CP | B251: Tellao 800mm 2 drawer 1 door Basin unit Soft Taupe + Ash handles+ 800 ceramic basin + CP shroud | C251: Soft Taupe / Chrome | D251: Furniture | E251: Tellao | F251: 20 | G251: 1214 | H251: 1011.6667 | I251: NEW | J251: Esclusiva
A252: TTE-508-SB-CP | B252: Tellao 800mm 2 drawer 1 door Basin unit Storm Blue + Granite handles + 800 ceramic basin + CP shroud | C252: Storm Blue / Chrome | D252: Furniture | E252: Tellao | F252: 20 | G252: 1214 | H252: 1011.6667 | I252: NEW | J252: Esclusiva
A253: TTE-510-ST-CP | B253: Tellao 1000mm 2 drawer 1 door Basin unit Soft Taupe + Ash handles+ 1000 ceramic basin + CP shroud | C253: Soft Taupe / Chrome | D253: Furniture | E253: Tellao | F253: 20 | G253: 1427 | H253: 1189.1667 | I253: NEW | J253: Esclusiva
A254: TTE-510-SB-CP | B254: Tellao 1000mm 2 drawer 1 door Basin unit Storm Blue+Granite handles + 1000 ceramic basin + CP shroud | C254: Storm Blue / Chrome | D254: Furniture | E254: Tellao | F254: 20 | G254: 1427 | H254: 1189.1667 | I254: NEW | J254: Esclusiva
A255: TTE-506-ST-BN | B255: Tellao 600mm 2 drawer Basin unit Soft Taupe + Ash handles + 600 ceramic basin + BN shroud | C255: Soft Taupe / Brushed Nickel | D255: Furniture | E255: Tellao | F255: 20 | G255: 885 | H255: 737.5 | I255: NEW | J255: Esclusiva
A256: TTE-506-SB-BN | B256: Tellao 600mm 2 drawer Basin unit Storm Blue + Granite handles + 600 ceramic basin + BN shroud | C256: Storm Blue / Brushed Nickel | D256: Furniture | E256: Tellao | F256: 20 | G256: 885 | H256: 737.5 | I256: NEW | J256: Esclusiva
A257: TTE-508-ST-BN | B257: Tellao 800mm 2 drawer 1 door Basin unit Soft Taupe + Ash handles+ 800 ceramic basin + BN shroud | C257: Soft Taupe / Brushed Nickel | D257: Furniture | E257: Tellao | F257: 20 | G257: 1214 | H257: 1011.6667 | I257: NEW | J257: Esclusiva
A258: TTE-508-SB-BN | B258: Tellao 800mm 2 drawer 1 door Basin unit Storm Blue + Granite handles + 800 ceramic basin + BN shroud | C258: Storm Blue / Brushed Nickel | D258: Furniture | E258: Tellao | F258: 20 | G258: 1214 | H258: 1011.6667 | I258: NEW | J258: Esclusiva
A259: TTE-510-ST-BN | B259: Tellao 1000mm 2 drawer 1 door Basin unit Soft Taupe + Ash handles+ 1000 ceramic basin + BN shroud | C259: Soft Taupe / Brushed Nickel | D259: Furniture | E259: Tellao | F259: 20 | G259: 1427 | H259: 1189.1667 | I259: NEW | J259: Esclusiva
A260: TTE-510-SB-BN | B260: Tellao 1000mm 2 drawer 1 door Basin unit Storm Blue+Granite handles + 1000 ceramic basin + BN shroud | C260: Storm Blue / Brushed Nickel | D260: Furniture | E260: Tellao | F260: 20 | G260: 1427 | H260: 1189.1667 | I260: NEW | J260: Esclusiva
... A272: TTE-510-SB-MN | B272: Tellao 1000mm 2 drawer 1 door Basin unit Storm Blue+Granite handles + 1000 ceramic basin + MN shroud | C272: Storm Blue / Matt Black | D272: Furniture | E272: Tellao | F272: 20 | G272: 1427 | H272: 1189.1667 | I272: NEW | J272: Esclusiva
A273: TWC-101-TG | B273: Back To Wall WC Unit and Worktop - Tuscan Green | C273: Tuscan Green | D273: Furniture | E273: WC Units | F273: 24 | G273: 278 | H273: 231.66667 | J273: Esclusiva
A274: TCL-101 | B274: Cellini Solid Surface Matt Finish Basin 600x460mm | C274: Matt/Satin | D274: Furniture | E274: Cellini | F274: 24 | G274: 360 | H274: 300
A275: TCL-102 | B275: Cellini Solid Surface Matt Finish Basin 800x460mm | C275: Matt/Satin | D275: Furniture | E275: Cellini | F275: 24 | G275: 471 | H275: 392.5
A276: TCL-103 | B276: Cellini Sollid Surface Matt Finish Basin 600mm - no tap hole | C276: Matt/Satin | D276: Furniture | E276: Cellini | F276: 24 | G276: 360 | H276: 300
A277: TCL-104 | B277: Cellini Sollid Surface Matt Finish Basin 800mm - no tap hole | C277: Matt/Satin | D277: Furniture | E277: Cellini | F277: 24 | G277: 471 | H277: 392.5
A278: TCL-105 | B278: Cellini Solid Surface Matt Finish Double Basin 1200 No Tap Hole | C278: White | D278: Furniture | E278: Cellini | F278: 24 | G278: 667 | H278: 555.83333
A279: TCO-106 | B279: Cortello Ceramic Basin 600mm | C279: White Ceramic | D279: Furniture | E279: Cortello | F279: 24 | G279: 165 | H279: 137.5
A280: TCO-206 | B280: Cortello Ceramic Basin 600mm No tap hole | C280: White Ceramic | D280: Furniture | E280: Cortello | F280: 24 | G280: 165 | H280: 137.5
A281: TCO-108 | B281: Cortello Ceramic Basin 800mm | C281: White Ceramic | D281: Furniture | E281: Cortello | F281: 24 | G281: 258 | H281: 215
A282: TCO-112 | B282: Cortello Ceramic Basin 1200mm | C282: White Ceramic | D282: Furniture | E282: Cortello | F282: 24 | G282: 515 | H282: 429.16667
A283: TCO-305 | B283: Cortello Ceramic Reduced Depth Basin 500mm | C283: White Ceramic | D283: Furniture | E283: Cortello | F283: 24 | G283: 165 | H283: 137.5
A284: TCO-306 | B284: Cortello Ceramic Reduced Depth Basin 600mm | C284: White Ceramic | D284: Furniture | E284: Cortello | F284: 24 | G284: 232 | H284: 193.33333
A285: TCO-308 | B285: Cortello Ceramic Reduced Depth Basin 800mm | C285: White Ceramic | D285: Furniture | E285: Cortello | F285: 24 | G285: 283 | H285: 235.83333
A286: TCS-401-BB | B286: Pair of Cosenza Basin Unit Legs Brushed Brass - 2 x straight | C286: Brushed Brass | D286: Furniture | E286: Cosenza | F286: 24 | G286: 271 | H286: 225.83333 | J286: Esclusiva
A287: TCS-401-MN | B287: Pair of Cosenza Basin Unit Legs Matt Black - 2 x straight | C287: Matt Black | D287: Furniture | E287: Cosenza | F287: 24 | G287: 209 | H287: 174.16667 | J287: Esclusiva
A288: TCS-402-BB | B288: Pair of Cosenza Basin Unit Legs Brushed Brass - 1 x straight, 1 x with towel hanger | C288: Brushed Brass | D288: Furniture | E288: Cosenza | F288: 24 | G288: 271 | H288: 225.83333 | J288: Esclusiva
A289: TCS-402-MN | B289: Pair of Cosenza Basin Unit Legs Matt Black - 1 x straight, 1 x with towel hanger | C289: Matt Black | D289: Furniture | E289: Cosenza | F289: 24 | G289: 209 | H289: 174.16667 | J289: Esclusiva
A290: TCS-521-LO-BB | B290: Cosenza 600 Light Oak Basin Unit with Brushed Brass Handles | C290: Light Oak/Brass Handles | D290: Furniture | E290: Cosenza | F290: 24 | G290: 816 | H290: 680 | J290: Esclusiva
A291: TCS-521-LO-BN | B291: Cosenza 600 Light Oak Basin Unit with Brushed Nickel Handles | C291: Light Oak/Nickel Handles | D291: Furniture | E291: Cosenza | F291: 24 | G291: 816 | H291: 680 | J291: Esclusiva
A292: TCS-521-LO-CP | B292: Cosenza 600 Light Oak Basin Unit with Chrome Handles | C292: Light Oak/Chrome Handles | D292: Furniture | E292: Cosenza | F292: 24 | G292: 816 | H292: 680 | J292: Esclusiva
A293: TCS-521-LO-MN | B293: Cosenza 600 Light Oak Basin Unit with Matt Black Handles | C293: Light Oak/Black Handles | D293: Furniture | E293: Cosenza | F293: 24 | G293: 816 | H293: 680 | J293: Esclusiva
A294: TCS-521-MW-BB | B294: Cosenza 600 Matt White Basin Unit with Brushed Brass Handles | C294: White/Brass Handles | D294: Furniture | E294: Cosenza | F294: 24 | G294: 816 | H294: 680 | J294: Esclusiva
A295: TCS-521-MW-BN | B295: Cosenza 600 Matt White Basin Unit with Brushed Nickel Handles | C295: White/Nickel Handles | D295: Furniture | E295: Cosenza | F295: 24 | G295: 816 | H295: 680 | J295: Esclusiva
A296: TCS-521-MW-CP | B296: Cosenza 600 Matt White Basin Unit with Chrome Handles | C296: White/Chrome Handles | D296: Furniture | E296: Cosenza | F296: 24 | G296: 816 | H296: 680 | J296: Esclusiva
A297: TCS-521-MW-MN | B297: Cosenza 600 Matt White Basin Unit with Matt Black Handles | C297: White/Black Handles | D297: Furniture | E297: Cosenza | F297: 24 | G297: 816 | H297: 680 | J297: Esclusiva
... A401: TCS-661-ST-MN | B401: Cosenza 1200 Floorstanding Matt Soft Taupe Basin Unit with Matt Black Handles | C401: Soft Taupe/Black Handles | D401: Furniture | E401: Cosenza | F401: 24 | G401: 1484 | H401: 1236.6667 | J401: Esclusiva
A402: TON-106 | B402: Oriana 600mm Cast Marble Basin | C402: Cast Marble | D402: Furniture | E402: Oriana | F402: 24 | G402: 378 | H402: 315
A403: TON-206 | B403: Oriana 600mm Cast Marble Basin - No Tap Hole | C403: Cast Marble | D403: Furniture | E403: Oriana | F403: 24 | G403: 378 | H403: 315
A404: TON-108 | B404: Oriana 800mm Cast Marble Basin | C404: Cast Marble | D404: Furniture | E404: Oriana | F404: 24 | G404: 459 | H404: 382.5
A405: TON-208 | B405: Oriana 800mm Cast Marble Basin - No Tap Hole | C405: Cast Marble | D405: Furniture | E405: Oriana | F405: 24 | G405: 459 | H405: 382.5
A406: TON-212 | B406: Oriana 1200mm Cast Marble Double Basin - No Tap Hole | C406: Cast Marble | D406: Furniture | E406: Oriana | F406: 24 | G406: 675 | H406: 562.5
A407: TPS-112 | B407: Oriana Overflow - Concealed Cover | C407: White | D407: Furniture | E407: Oriana | F407: 24 | G407: 20 | H407: 16.666667
A408: TMZ-101-BU | B408: Mozzano 600 Basin Unit - Midnight Blue | C408: Midnight Blue | D408: Furniture | E408: Mozzano | F408: 32 | G408: 734 | H408: 611.66667
A409: TMZ-101-MG | B409: Mozzano 600 Basin Unit - Matt Grey | C409: Matt Grey | D409: Furniture | E409: Mozzano | F409: 32 | G409: 734 | H409: 611.66667
A410: TMZ-101-MW | B410: Mozzano 600 Basin Unit - Matt White | C410: Matt White | D410: Furniture | E410: Mozzano | F410: 32 | G410: 734 | H410: 611.66667
A411: TMZ-101-SG | B411: Mozzano 600 Basin Unit - Sila Green | C411: Sila Green | D411: Furniture | E411: Mozzano | F411: 32 | G411: 734 | H411: 611.66667
A412: TMZ-101-ST | B412: Mozzano 600 Basin Unit - Soft Taupe | C412: Soft Taupe | D412: Furniture | E412: Mozzano | F412: 32 | G412: 734 | H412: 611.66667
A413: TMZ-101-WH | B413: Mozzano 600 Basin Unit - Gloss White | C413: Gloss White | D413: Furniture | E413: Mozzano | F413: 32 | G413: 734 | H413: 611.66667
... A464: TWC-101-BU | B464: Back To Wall WC Unit and Worktop - Midnight Blue | C464: Midnight Blue | D464: Furniture | E464: WC Units | F464: 32 | G464: 278 | H464: 231.66667
A465: TWC-101-DB | B465: Back To Wall WC Unit and Worktop - Dusky Blue | C465: Dusky Blue | D465: Furniture | E465: WC Units | F465: 32 | G465: 278 | H465: 231.66667 | J465: Esclusiva
A466: TWC-101-LO | B466: Back To Wall WC Unit and Worktop - Light Oak | C466: Light Oak | D466: Furniture | E466: WC Units | F466: 32 | G466: 278 | H466: 231.66667 | J466: Esclusiva
A467: TWC-101-MG | B467: Back To Wall WC Unit and Worktop - Matt Grey | C467: Matt Grey | D467: Furniture | E467: WC Units | F467: 32 | G467: 278 | H467: 231.66667
A468: TWC-101-MW | B468: Back To Wall WC Unit and Worktop - Matt White | C468: Matt White | D468: Furniture | E468: WC Units | F468: 32 | G468: 278 | H468: 231.66667
A469: TWC-101-NO | B469: Back To Wall WC Unit and Worktop - Natural Oak | C469: Natural Oak | D469: Furniture | E469: WC Units | F469: 32 | G469: 278 | H469: 231.66667 | J469: Esclusiva
A470: TWC-101-SG | B470: Back To Wall WC Unit and Worktop - Sage Green | C470: Sage Green | D470: Furniture | E470: WC Units | F470: 32 | G470: 278 | H470: 231.66667
A471: TWC-101-ST | B471: Back To Wall WC Unit and Worktop - Soft Taupe | C471: Soft Taupe | D471: Furniture | E471: WC Units | F471: 32 | G471: 278 | H471: 231.66667
A472: TWC-101-TB | B472: Back To Wall WC Unit and Worktop - Terracotta Blush | C472: Terracotta Blush | D472: Furniture | E472: WC Units | F472: 32 | G472: 278 | H472: 231.66667 | J472: Esclusiva
...

Sheet Sheet1
A1: Category / Product | B1: Page
A2: Furniture | B2: 8
A3: Stratto | B3: 10 | C3: Esclusiva
A4: Tellao | B4: 20 | C4: Esclusiva
A5: Cosenza | B5: 24 | C5: Esclusiva
A6: Mozzano | B6: 32
A7: Furniture Inserts | B7: 40
A8: Shower Trays | B8: 42
A9: Giorgio2 | B9: 46
A10: Giorgio Lux | B10: 58
A11: Giorgio Wall Panels | B11: 62
A12: Mont | B12: 64 | C12: Esclusiva
A13: Finezza | B13: 70 | C13: Esclusiva
A14: Fiorti | B14: 72
A15: Fiorti Smooth | B15: 72
A16: Shower Enclosures | B16: 80
A17: Tavo | B17: 82 | C17: Esclusiva
A18: Armano Roller | B18: 108
A19: Rivelo | B19: 114
A20: Brassware | B20: 120
A21: Arturo | B21: 122 | C21: Esclusiva
A22: Santuro | B22: 134 | C22: Esclusiva
A23: Sentire | B23: 146
A24: Vario | B24: 150
A25: Shower Niches | B25: 164
A26: Wastes and Fillers | B26: 166
A27: Bathing | B27: 168
A28: Esento | B28: 170 | C28: Esclusiva
A29: Otello | B29: 172 | C29: Esclusiva
A30: Matera | B30: 174
A31: Tanaro | B31: 176
A32: Lorenzo | B32: 178
A33: Angelo | B33: 184
A34: Londra | B34: 188
A35: Messina Bath Screens | B35: 190
A36: Sanitaryware | B36: 192
A37: Vitolo | B37: 194 | C37: Esclusiva
A38: Davoli | B38: 196
A39: Vorta | B39: 202
A40: Nerola | B40: 204
A41: Rocco2 | B41: 208
A42: Mirrors | B42: 212
A43: Presa | B43: 216 | C43: Esclusiva
A44: Forma | B44: 218 | C44: Esclusiva
A45: Deluna | B45: 220 | C45: Esclusiva
A46: Briella | B46: 222 | C46: Esclusiva
A47: Varano | B47: 224
A48: Cedro | B48: 226
A49: Terzo | B49: 228
A50: Accessories | B50: 230
A51: Pirlo | B51: 232 | C51: Esclusiva
A52: Carlos | B52: 234
A53: Heating | B53: 236
A54: Fabio | B54: 240 | C54: Esclusiva
A55: Emilio | B55: 244 | C55: Esclusiva
A56: Bartolo | B56: 246 | C56: Esclusiva
A57: Ampio | B57: 250 | C57: Esclusiva
A58: Marcello | B58: 254 | C58: Esclusiva
A59: Hugo2 | B59: 256
A60: Hugo Evolute | B60: 264
A61: Valves and Accessories | B61: 272

Sheet ALL KIT DATA
A1: PARENT | B1: CHILD | C1: CURRENT RRP | D1: In KIT?
A2: INFT-088-BS | B2: TSS-088-BS | C2: =VLOOKUP(B2,'[1]Main Sheet'!$A:$C,3,0) -> #N/A | D2: =IF(COUNTIF(KIT!$A:$A,A2)>0,"Yes","No") -> No
A3: INFT-088-TS | B3: TSS-088-TS | C3: =VLOOKUP(B3,'[1]Main Sheet'!$A:$C,3,0) -> #N/A | D3: =IF(COUNTIF(KIT!$A:$A,A3)>0,"Yes","No") -> No
A4: INFT-088-WS | B4: TSS-088-WS | C4: =VLOOKUP(B4,'[1]Main Sheet'!$A:$C,3,0) -> #N/A | D4: =IF(COUNTIF(KIT!$A:$A,A4)>0,"Yes","No") -> No
A5: INFT-099-BS | B5: TSS-099-BS | C5: =VLOOKUP(B5,'[1]Main Sheet'!$A:$C,3,0) -> #N/A | D5: =IF(COUNTIF(KIT!$A:$A,A5)>0,"Yes","No") -> No
A6: INFT-099-TS | B6: TSS-099-TS | C6: =VLOOKUP(B6,'[1]Main Sheet'!$A:$C,3,0) -> #N/A | D6: =IF(COUNTIF(KIT!$A:$A,A6)>0,"Yes","No") -> No
A7: INFT-099-WS | B7: TSS-099-WS | C7: =VLOOKUP(B7,'[1]Main Sheet'!$A:$C,3,0) -> #N/A | D7: =IF(COUNTIF(KIT!$A:$A,A7)>0,"Yes","No") -> No
A8: INFT-107-BS | B8: TSS-107-BS | C8: =VLOOKUP(B8,'[1]Main Sheet'!$A:$C,3,0) -> #N/A | D8: =IF(COUNTIF(KIT!$A:$A,A8)>0,"Yes","No") -> No
A9: INFT-107-TS | B9: TSS-107-TS | C9: =VLOOKUP(B9,'[1]Main Sheet'!$A:$C,3,0) -> #N/A | D9: =IF(COUNTIF(KIT!$A:$A,A9)>0,"Yes","No") -> No
A10: INFT-107-WS | B10: TSS-107-WS | C10: =VLOOKUP(B10,'[1]Main Sheet'!$A:$C,3,0) -> #N/A | D10: =IF(COUNTIF(KIT!$A:$A,A10)>0,"Yes","No") -> No
A11: INFT-108-BS | B11: TSS-108-BS | C11: =VLOOKUP(B11,'[1]Main Sheet'!$A:$C,3,0) -> #N/A | D11: =IF(COUNTIF(KIT!$A:$A,A11)>0,"Yes","No") -> No
A12: INFT-108-TS | B12: TSS-108-TS | C12: =VLOOKUP(B12,'[1]Main Sheet'!$A:$C,3,0) -> #N/A | D12: =IF(COUNTIF(KIT!$A:$A,A12)>0,"Yes","No") -> No
A13: INFT-108-WS | B13: TSS-108-WS | C13: =VLOOKUP(B13,'[1]Main Sheet'!$A:$C,3,0) -> #N/A | D13: =IF(COUNTIF(KIT!$A:$A,A13)>0,"Yes","No") -> No
... A2940: TMK-824 | B2940: TMK-711 | C2940: =VLOOKUP(B2940,'[1]Main Sheet'!$A:$C,3,0) -> #N/A | D2940: =IF(COUNTIF(KIT!$A:$A,A2940)>0,"Yes","No") -> No
A2941: TMK-825-ALL | B2941: TMK-825-AN | C2941: =VLOOKUP(B2941,'[1]Main Sheet'!$A:$C,3,0) -> #N/A | D2941: =IF(COUNTIF(KIT!$A:$A,A2941)>0,"Yes","No") -> No | E2941: 46203
A2942: TMK-825-ALL | B2942: TMK-825-AR | C2942: =VLOOKUP(B2942,'[1]Main Sheet'!$A:$C,3,0) -> #N/A | D2942: =IF(COUNTIF(KIT!$A:$A,A2942)>0,"Yes","No") -> No
A2943: TMK-825-ALL | B2943: TMK-825-LG | C2943: =VLOOKUP(B2943,'[1]Main Sheet'!$A:$C,3,0) -> #N/A | D2943: =IF(COUNTIF(KIT!$A:$A,A2943)>0,"Yes","No") -> No | E2943: 46203
A2944: TMK-825-ALL | B2944: TMK-825-MB | C2944: =VLOOKUP(B2944,'[1]Main Sheet'!$A:$C,3,0) -> #N/A | D2944: =IF(COUNTIF(KIT!$A:$A,A2944)>0,"Yes","No") -> No
A2945: TMK-825-ALL | B2945: TMK-825-MN | C2945: =VLOOKUP(B2945,'[1]Main Sheet'!$A:$C,3,0) -> #N/A | D2945: =IF(COUNTIF(KIT!$A:$A,A2945)>0,"Yes","No") -> No
A2946: TMK-835 | B2946: TMK-706-AN | C2946: =VLOOKUP(B2946,'[1]Main Sheet'!$A:$C,3,0) -> #N/A | D2946: =IF(COUNTIF(KIT!$A:$A,A2946)>0,"Yes","No") -> No
A2947: TMK-835 | B2947: TMK-706-AR | C2947: =VLOOKUP(B2947,'[1]Main Sheet'!$A:$C,3,0) -> #N/A | D2947: =IF(COUNTIF(KIT!$A:$A,A2947)>0,"Yes","No") -> No
A2948: TMK-835 | B2948: TMK-706-LG | C2948: =VLOOKUP(B2948,'[1]Main Sheet'!$A:$C,3,0) -> #N/A | D2948: =IF(COUNTIF(KIT!$A:$A,A2948)>0,"Yes","No") -> No
A2949: TMK-835 | B2949: TMK-706-MB | C2949: =VLOOKUP(B2949,'[1]Main Sheet'!$A:$C,3,0) -> #N/A | D2949: =IF(COUNTIF(KIT!$A:$A,A2949)>0,"Yes","No") -> No
A2950: TMK-835 | B2950: TMK-706-MN | C2950: =VLOOKUP(B2950,'[1]Main Sheet'!$A:$C,3,0) -> #N/A | D2950: =IF(COUNTIF(KIT!$A:$A,A2950)>0,"Yes","No") -> No
A2951: TMK-835 | B2951: TMK-706-MST | C2951: =VLOOKUP(B2951,'[1]Main Sheet'!$A:$C,3,0) -> #N/A | D2951: =IF(COUNTIF(KIT!$A:$A,A2951)>0,"Yes","No") -> No
A2952: TMK-836 | B2952: TMK-706-AN | C2952: =VLOOKUP(B2952,'[1]Main Sheet'!$A:$C,3,0) -> #N/A | D2952: =IF(COUNTIF(KIT!$A:$A,A2952)>0,"Yes","No") -> No
A2953: TMK-836 | B2953: TMK-706-LG | C2953: =VLOOKUP(B2953,'[1]Main Sheet'!$A:$C,3,0) -> #N/A | D2953: =IF(COUNTIF(KIT!$A:$A,A2953)>0,"Yes","No") -> No
A2954: TMK-836 | B2954: TMK-706-MB | C2954: =VLOOKUP(B2954,'[1]Main Sheet'!$A:$C,3,0) -> #N/A | D2954: =IF(COUNTIF(KIT!$A:$A,A2954)>0,"Yes","No") -> No
A2955: TMK-841-BB | B2955: TAT-105-BB | C2955: =VLOOKUP(B2955,'[1]Main Sheet'!$A:$C,3,0) -> 145.57 | D2955: =IF(COUNTIF(KIT!$A:$A,A2955)>0,"Yes","No") -> No
... A3587: TPI-502-CP | B3587: TPI-204-CP | C3587: =VLOOKUP(B3587,'[1]Main Sheet'!$A:$C,3,0) -> 25 | D3587: =IF(COUNTIF(KIT!$A:$A,A3587)>0,"Yes","No") -> No
A3588: TPI-502-CP | B3588: TPI-207-CP | C3588: =VLOOKUP(B3588,'[1]Main Sheet'!$A:$C,3,0) -> 54.1667 | D3588: =IF(COUNTIF(KIT!$A:$A,A3588)>0,"Yes","No") -> No | E3588: 46203
A3589: TPI-502-MN | B3589: TPI-203-MN | C3589: =VLOOKUP(B3589,'[1]Main Sheet'!$A:$C,3,0) -> 41.6667 | D3589: =IF(COUNTIF(KIT!$A:$A,A3589)>0,"Yes","No") -> No
A3590: TPI-502-MN | B3590: TPI-204-MN | C3590: =VLOOKUP(B3590,'[1]Main Sheet'!$A:$C,3,0) -> #N/A | D3590: =IF(COUNTIF(KIT!$A:$A,A3590)>0,"Yes","No") -> No
A3591: TPI-502-MN | B3591: TPI-207-MN | C3591: =VLOOKUP(B3591,'[1]Main Sheet'!$A:$C,3,0) -> #N/A | D3591: =IF(COUNTIF(KIT!$A:$A,A3591)>0,"Yes","No") -> No
A3592: TPI-503-BB | B3592: TPI-201-BB | C3592: =VLOOKUP(B3592,'[1]Main Sheet'!$A:$C,3,0) -> 83.3333 | D3592: =IF(COUNTIF(KIT!$A:$A,A3592)>0,"Yes","No") -> No
A3593: TPI-503-BB | B3593: TPI-203-BB | C3593: =VLOOKUP(B3593,'[1]Main Sheet'!$A:$C,3,0) -> 41.6667 | D3593: =IF(COUNTIF(KIT!$A:$A,A3593)>0,"Yes","No") -> No
A3594: TPI-503-BB | B3594: TPI-205-BB | C3594: =VLOOKUP(B3594,'[1]Main Sheet'!$A:$C,3,0) -> 37.5 | D3594: =IF(COUNTIF(KIT!$A:$A,A3594)>0,"Yes","No") -> No
A3595: TPI-503-BN | B3595: TPI-201-BN | C3595: =VLOOKUP(B3595,'[1]Main Sheet'!$A:$C,3,0) -> 83.3333 | D3595: =IF(COUNTIF(KIT!$A:$A,A3595)>0,"Yes","No") -> No
A3596: TPI-503-BN | B3596: TPI-203-BN | C3596: =VLOOKUP(B3596,'[1]Main Sheet'!$A:$C,3,0) -> 41.6667 | D3596: =IF(COUNTIF(KIT!$A:$A,A3596)>0,"Yes","No") -> No
A3597: TPI-503-BN | B3597: TPI-205-BN | C3597: =VLOOKUP(B3597,'[1]Main Sheet'!$A:$C,3,0) -> 37.5 | D3597: =IF(COUNTIF(KIT!$A:$A,A3597)>0,"Yes","No") -> No
A3598: TPI-503-CP | B3598: TPI-201-CP | C3598: =VLOOKUP(B3598,'[1]Main Sheet'!$A:$C,3,0) -> 66.6667 | D3598: =IF(COUNTIF(KIT!$A:$A,A3598)>0,"Yes","No") -> No
A3599: TPI-503-CP | B3599: TPI-203-CP | C3599: =VLOOKUP(B3599,'[1]Main Sheet'!$A:$C,3,0) -> 33.3333 | D3599: =IF(COUNTIF(KIT!$A:$A,A3599)>0,"Yes","No") -> No
A3600: TPI-503-CP | B3600: TPI-205-CP | C3600: =VLOOKUP(B3600,'[1]Main Sheet'!$A:$C,3,0) -> 29.1667 | D3600: =IF(COUNTIF(KIT!$A:$A,A3600)>0,"Yes","No") -> No
... A3611: TPI-504-CP | B3611: TPI-205-CP | C3611: =VLOOKUP(B3611,'[1]Main Sheet'!$A:$C,3,0) -> 29.1667 | D3611: =IF(COUNTIF(KIT!$A:$A,A3611)>0,"Yes","No") -> No
A3612: TPI-504-CP | B3612: TPI-207-CP | C3612: =VLOOKUP(B3612,'[1]Main Sheet'!$A:$C,3,0) -> 54.1667 | D3612: =IF(COUNTIF(KIT!$A:$A,A3612)>0,"Yes","No") -> No | E3612: 46203
A3613: TPI-504-MN | B3613: TPI-203-MN | C3613: =VLOOKUP(B3613,'[1]Main Sheet'!$A:$C,3,0) -> 41.6667 | D3613: =IF(COUNTIF(KIT!$A:$A,A3613)>0,"Yes","No") -> No
A3614: TPI-504-MN | B3614: TPI-205-MN | C3614: =VLOOKUP(B3614,'[1]Main Sheet'!$A:$C,3,0) -> 37.5 | D3614: =IF(COUNTIF(KIT!$A:$A,A3614)>0,"Yes","No") -> No
A3615: TPI-504-MN | B3615: TPI-207-MN | C3615: =VLOOKUP(B3615,'[1]Main Sheet'!$A:$C,3,0) -> #N/A | D3615: =IF(COUNTIF(KIT!$A:$A,A3615)>0,"Yes","No") -> No
A3616: TPI-601-BB | B3616: TPI-301-BB | C3616: =VLOOKUP(B3616,'[1]Main Sheet'!$A:$C,3,0) -> 100 | D3616: =IF(COUNTIF(KIT!$A:$A,A3616)>0,"Yes","No") -> No
A3617: TPI-601-BB | B3617: TPI-303-BB | C3617: =VLOOKUP(B3617,'[1]Main Sheet'!$A:$C,3,0) -> 59.1667 | D3617: =IF(COUNTIF(KIT!$A:$A,A3617)>0,"Yes","No") -> No
A3618: TPI-601-BB | B3618: TPI-304-BB | C3618: =VLOOKUP(B3618,'[1]Main Sheet'!$A:$C,3,0) -> 36.6667 | D3618: =IF(COUNTIF(KIT!$A:$A,A3618)>0,"Yes","No") -> No
A3619: TPI-601-BN | B3619: TPI-301-BN | C3619: =VLOOKUP(B3619,'[1]Main Sheet'!$A:$C,3,0) -> #N/A | D3619: =IF(COUNTIF(KIT!$A:$A,A3619)>0,"Yes","No") -> No
A3620: TPI-601-BN | B3620: TPI-303-BN | C3620: =VLOOKUP(B3620,'[1]Main Sheet'!$A:$C,3,0) -> 59.1667 | D3620: =IF(COUNTIF(KIT!$A:$A,A3620)>0,"Yes","No") -> No
A3621: TPI-601-BN | B3621: TPI-304-BN | C3621: =VLOOKUP(B3621,'[1]Main Sheet'!$A:$C,3,0) -> 36.6667 | D3621: =IF(COUNTIF(KIT!$A:$A,A3621)>0,"Yes","No") -> No
A3622: TPI-601-CP | B3622: TPI-301-CP | C3622: =VLOOKUP(B3622,'[1]Main Sheet'!$A:$C,3,0) -> #N/A | D3622: =IF(COUNTIF(KIT!$A:$A,A3622)>0,"Yes","No") -> No
A3623: TPI-601-CP | B3623: TPI-303-CP | C3623: =VLOOKUP(B3623,'[1]Main Sheet'!$A:$C,3,0) -> 40 | D3623: =IF(COUNTIF(KIT!$A:$A,A3623)>0,"Yes","No") -> No
A3624: TPI-601-CP | B3624: TPI-304-CP | C3624: =VLOOKUP(B3624,'[1]Main Sheet'!$A:$C,3,0) -> #N/A | D3624: =IF(COUNTIF(KIT!$A:$A,A3624)>0,"Yes","No") -> No
... A3626: TPI-601-MN | B3626: TPI-303-MN | C3626: =VLOOKUP(B3626,'[1]Main Sheet'!$A:$C,3,0) -> #N/A | D3626: =IF(COUNTIF(KIT!$A:$A,A3626)>0,"Yes","No") -> No
A3627: TPI-601-MN | B3627: TPI-304-MN | C3627: =VLOOKUP(B3627,'[1]Main Sheet'!$A:$C,3,0) -> 36.6667 | D3627: =IF(COUNTIF(KIT!$A:$A,A3627)>0,"Yes","No") -> No | E3627: 46203
A3628: TPI-602-BB | B3628: TPI-303-BB | C3628: =VLOOKUP(B3628,'[1]Main Sheet'!$A:$C,3,0) -> 59.1667 | D3628: =IF(COUNTIF(KIT!$A:$A,A3628)>0,"Yes","No") -> No
A3629: TPI-602-BB | B3629: TPI-304-BB | C3629: =VLOOKUP(B3629,'[1]Main Sheet'!$A:$C,3,0) -> 36.6667 | D3629: =IF(COUNTIF(KIT!$A:$A,A3629)>0,"Yes","No") -> No
A3630: TPI-602-BB | B3630: TPI-307-BB | C3630: =VLOOKUP(B3630,'[1]Main Sheet'!$A:$C,3,0) -> #N/A | D3630: =IF(COUNTIF(KIT!$A:$A,A3630)>0,"Yes","No") -> No | E3630: 46203
A3631: TPI-602-BN | B3631: TPI-303-BN | C3631: =VLOOKUP(B3631,'[1]Main Sheet'!$A:$C,3,0) -> 59.1667 | D3631: =IF(COUNTIF(KIT!$A:$A,A3631)>0,"Yes","No") -> No
A3632: TPI-602-BN | B3632: TPI-304-BN | C3632: =VLOOKUP(B3632,'[1]Main Sheet'!$A:$C,3,0) -> 36.6667 | D3632: =IF(COUNTIF(KIT!$A:$A,A3632)>0,"Yes","No") -> No
A3633: TPI-602-BN | B3633: TPI-307-BN | C3633: =VLOOKUP(B3633,'[1]Main Sheet'!$A:$C,3,0) -> #N/A | D3633: =IF(COUNTIF(KIT!$A:$A,A3633)>0,"Yes","No") -> No
A3634: TPI-602-CP | B3634: TPI-303-CP | C3634: =VLOOKUP(B3634,'[1]Main Sheet'!$A:$C,3,0) -> 40 | D3634: =IF(COUNTIF(KIT!$A:$A,A3634)>0,"Yes","No") -> No
A3635: TPI-602-CP | B3635: TPI-304-CP | C3635: =VLOOKUP(B3635,'[1]Main Sheet'!$A:$C,3,0) -> #N/A | D3635: =IF(COUNTIF(KIT!$A:$A,A3635)>0,"Yes","No") -> No
A3636: TPI-602-CP | B3636: TPI-307-CP | C3636: =VLOOKUP(B3636,'[1]Main Sheet'!$A:$C,3,0) -> #N/A | D3636: =IF(COUNTIF(KIT!$A:$A,A3636)>0,"Yes","No") -> No
A3637: TPI-602-MN | B3637: TPI-303-MN | C3637: =VLOOKUP(B3637,'[1]Main Sheet'!$A:$C,3,0) -> #N/A | D3637: =IF(COUNTIF(KIT!$A:$A,A3637)>0,"Yes","No") -> No
A3638: TPI-602-MN | B3638: TPI-304-MN | C3638: =VLOOKUP(B3638,'[1]Main Sheet'!$A:$C,3,0) -> 36.6667 | D3638: =IF(COUNTIF(KIT!$A:$A,A3638)>0,"Yes","No") -> No | E3638: 46203
A3639: TPI-602-MN | B3639: TPI-307-MN | C3639: =VLOOKUP(B3639,'[1]Main Sheet'!$A:$C,3,0) -> #N/A | D3639: =IF(COUNTIF(KIT!$A:$A,A3639)>0,"Yes","No") -> No
A3640: TPI-603-BB | B3640: TPI-301-BB | C3640: =VLOOKUP(B3640,'[1]Main Sheet'!$A:$C,3,0) -> 100 | D3640: =IF(COUNTIF(KIT!$A:$A,A3640)>0,"Yes","No") -> No
A3641: TPI-603-BB | B3641: TPI-303-BB | C3641: =VLOOKUP(B3641,'[1]Main Sheet'!$A:$C,3,0) -> 59.1667 | D3641: =IF(COUNTIF(KIT!$A:$A,A3641)>0,"Yes","No") -> No
A3642: TPI-603-BB | B3642: TPI-305-BB | C3642: =VLOOKUP(B3642,'[1]Main Sheet'!$A:$C,3,0) -> 45.8333 | D3642: =IF(COUNTIF(KIT!$A:$A,A3642)>0,"Yes","No") -> No
A3643: TPI-603-BN | B3643: TPI-301-BN | C3643: =VLOOKUP(B3643,'[1]Main Sheet'!$A:$C,3,0) -> #N/A | D3643: =IF(COUNTIF(KIT!$A:$A,A3643)>0,"Yes","No") -> No
A3644: TPI-603-BN | B3644: TPI-303-BN | C3644: =VLOOKUP(B3644,'[1]Main Sheet'!$A:$C,3,0) -> 59.1667 | D3644: =IF(COUNTIF(KIT!$A:$A,A3644)>0,"Yes","No") -> No
A3645: TPI-603-BN | B3645: TPI-305-BN | C3645: =VLOOKUP(B3645,'[1]Main Sheet'!$A:$C,3,0) -> #N/A | D3645: =IF(COUNTIF(KIT!$A:$A,A3645)>0,"Yes","No") -> No
A3646: TPI-603-CP | B3646: TPI-301-CP | C3646: =VLOOKUP(B3646,'[1]Main Sheet'!$A:$C,3,0) -> #N/A | D3646: =IF(COUNTIF(KIT!$A:$A,A3646)>0,"Yes","No") -> No
A3647: TPI-603-CP | B3647: TPI-303-CP | C3647: =VLOOKUP(B3647,'[1]Main Sheet'!$A:$C,3,0) -> 40 | D3647: =IF(COUNTIF(KIT!$A:$A,A3647)>0,"Yes","No") -> No
A3648: TPI-603-CP | B3648: TPI-305-CP | C3648: =VLOOKUP(B3648,'[1]Main Sheet'!$A:$C,3,0) -> #N/A | D3648: =IF(COUNTIF(KIT!$A:$A,A3648)>0,"Yes","No") -> No
A3649: TPI-603-MN | B3649: TPI-301-MN | C3649: =VLOOKUP(B3649,'[1]Main Sheet'!$A:$C,3,0) -> #N/A | D3649: =IF(COUNTIF(KIT!$A:$A,A3649)>0,"Yes","No") -> No
A3650: TPI-603-MN | B3650: TPI-303-MN | C3650: =VLOOKUP(B3650,'[1]Main Sheet'!$A:$C,3,0) -> #N/A | D3650: =IF(COUNTIF(KIT!$A:$A,A3650)>0,"Yes","No") -> No
... A3653: TPI-604-BB | B3653: TPI-305-BB | C3653: =VLOOKUP(B3653,'[1]Main Sheet'!$A:$C,3,0) -> 45.8333 | D3653: =IF(COUNTIF(KIT!$A:$A,A3653)>0,"Yes","No") -> No
A3654: TPI-604-BB | B3654: TPI-307-BB | C3654: =VLOOKUP(B3654,'[1]Main Sheet'!$A:$C,3,0) -> #N/A | D3654: =IF(COUNTIF(KIT!$A:$A,A3654)>0,"Yes","No") -> No | E3654: 46203
A3655: TPI-604-BN | B3655: TPI-303-BN | C3655: =VLOOKUP(B3655,'[1]Main Sheet'!$A:$C,3,0) -> 59.1667 | D3655: =IF(COUNTIF(KIT!$A:$A,A3655)>0,"Yes","No") -> No
A3656: TPI-604-BN | B3656: TPI-305-BN | C3656: =VLOOKUP(B3656,'[1]Main Sheet'!$A:$C,3,0) -> #N/A | D3656: =IF(COUNTIF(KIT!$A:$A,A3656)>0,"Yes","No") -> No
A3657: TPI-604-BN | B3657: TPI-307-BN | C3657: =VLOOKUP(B3657,'[1]Main Sheet'!$A:$C,3,0) -> #N/A | D3657: =IF(COUNTIF(KIT!$A:$A,A3657)>0,"Yes","No") -> No
A3658: TPI-604-CP | B3658: TPI-303-CP | C3658: =VLOOKUP(B3658,'[1]Main Sheet'!$A:$C,3,0) -> 40 | D3658: =IF(COUNTIF(KIT!$A:$A,A3658)>0,"Yes","No") -> No
A3659: TPI-604-CP | B3659: TPI-305-CP | C3659: =VLOOKUP(B3659,'[1]Main Sheet'!$A:$C,3,0) -> #N/A | D3659: =IF(COUNTIF(KIT!$A:$A,A3659)>0,"Yes","No") -> No
A3660: TPI-604-CP | B3660: TPI-307-CP | C3660: =VLOOKUP(B3660,'[1]Main Sheet'!$A:$C,3,0) -> #N/A | D3660: =IF(COUNTIF(KIT!$A:$A,A3660)>0,"Yes","No") -> No
A3661: TPI-604-MN | B3661: TPI-303-MN | C3661: =VLOOKUP(B3661,'[1]Main Sheet'!$A:$C,3,0) -> #N/A | D3661: =IF(COUNTIF(KIT!$A:$A,A3661)>0,"Yes","No") -> No
A3662: TPI-604-MN | B3662: TPI-305-MN | C3662: =VLOOKUP(B3662,'[1]Main Sheet'!$A:$C,3,0) -> #N/A | D3662: =IF(COUNTIF(KIT!$A:$A,A3662)>0,"Yes","No") -> No
A3663: TPI-604-MN | B3663: TPI-307-MN | C3663: =VLOOKUP(B3663,'[1]Main Sheet'!$A:$C,3,0) -> #N/A | D3663: =IF(COUNTIF(KIT!$A:$A,A3663)>0,"Yes","No") -> No
A3664: TRC-201-BB | B3664: TRC-201-WH | C3664: =VLOOKUP(B3664,'[1]Main Sheet'!$A:$C,3,0) -> 64.1667 | D3664: =IF(COUNTIF(KIT!$A:$A,A3664)>0,"Yes","No") -> Yes
A3665: TRC-201-BB | B3665: TRC-301-BB | C3665: =VLOOKUP(B3665,'[1]Main Sheet'!$A:$C,3,0) -> #N/A | D3665: =IF(COUNTIF(KIT!$A:$A,A3665)>0,"Yes","No") -> Yes
A3666: TRC-202-BB | B3666: TRC-202-WH | C3666: =VLOOKUP(B3666,'[1]Main Sheet'!$A:$C,3,0) -> 54.1667 | D3666: =IF(COUNTIF(KIT!$A:$A,A3666)>0,"Yes","No") -> Yes
... A4867: TTV-303-BB | B4867: TTV-103 | C4867: =VLOOKUP(B4867,'[1]Main Sheet'!$A:$C,3,0) -> 113.33 | D4867: =IF(COUNTIF(KIT!$A:$A,A4867)>0,"Yes","No") -> Yes
A4868: TTV-303-BB | B4868: TTV-201-BB | C4868: =VLOOKUP(B4868,'[1]Main Sheet'!$A:$C,3,0) -> 82.5 | D4868: =IF(COUNTIF(KIT!$A:$A,A4868)>0,"Yes","No") -> Yes | E4868: 46203
A4869: TTV-303-BB | B4869: TTV-202-BB | C4869: =VLOOKUP(B4869,'[1]Main Sheet'!$A:$C,3,0) -> 0 | D4869: =IF(COUNTIF(KIT!$A:$A,A4869)>0,"Yes","No") -> Yes | E4869: 46203
A4870: TTV-303-BB-2M | B4870: TTV-103 | C4870: =VLOOKUP(B4870,'[1]Main Sheet'!$A:$C,3,0) -> 113.33 | D4870: =IF(COUNTIF(KIT!$A:$A,A4870)>0,"Yes","No") -> Yes
...

Sheet NONE KIT
A1: SKU | B1: Description | C1: Colour | D1: Category | E1: Range | F1: Range Brochure Page | G1: March 2026 RRP Ex VAT | H1: March 2026 RRP | I1: New? | J1: Esclusiva | K1: GTIN | L1: Suggested % increase in RRP FROM CL Sheet | M1: ROUND UP September 2026 RRP | N1: EX VAT | O1: INCREASE CHECK | P1: MATCH
A2: TST-306-BB | B2: Stratto 600 Basin Unit Trim - Brushed Brass | C2: Brushed Brass | D2: Furniture | E2: Stratto | F2: 10 | G2: 71.666667 | H2: 86 | J2: Esclusiva | K2: 5061025554478 | L2: 0 | M2: =ROUND((H2*(100%+L2)),0) -> 86 | N2: =M2/1.2 -> 71.666667 | O2: =(M2-H2)/H2 -> 0 | P2: =MATCH(O2,L2) -> 1
A3: TST-306-BN | B3: Stratto 600 Basin Unit Trim - Brushed Nickel | C3: Brushed Nickel | D3: Furniture | E3: Stratto | F3: 10 | G3: 71.666667 | H3: 86 | J3: Esclusiva | K3: 5056838907979 | L3: 0 | M3: =ROUND((H3*(100%+L3)),0) -> 86 | N3: =M3/1.2 -> 71.666667 | O3: =(M3-H3)/H3 -> 0 | P3: =MATCH(O3,L3) -> 1
A4: TST-306-MN | B4: Stratto 600 Basin Unit Trim - Matt Black | C4: Matt Black | D4: Furniture | E4: Stratto | F4: 10 | G4: 71.666667 | H4: 86 | J4: Esclusiva | K4: 5061025554485 | L4: 0.06 | M4: =ROUND((H4*(100%+L4)),0) -> 91 | N4: =M4/1.2 -> 75.833333 | O4: =(M4-H4)/H4 -> 0.058139535 | P4: =MATCH(O4,L4) -> #N/A
A5: TST-308-BB | B5: Stratto 800 Basin Unit Trim - Brushed Brass | C5: Brushed Brass | D5: Furniture | E5: Stratto | F5: 10 | G5: 109.16667 | H5: 131 | J5: Esclusiva | K5: 5061025554492 | L5: 0 | M5: =ROUND((H5*(100%+L5)),0) -> 131 | N5: =M5/1.2 -> 109.16667 | O5: =(M5-H5)/H5 -> 0 | P5: =MATCH(O5,L5) -> 1
A6: TST-308-BN | B6: Stratto 800 Basin Unit Trim - Brushed Nickel | C6: Brushed Nickel | D6: Furniture | E6: Stratto | F6: 10 | G6: 109.16667 | H6: 131 | J6: Esclusiva | K6: 5056838907986 | L6: 0 | M6: =ROUND((H6*(100%+L6)),0) -> 131 | N6: =M6/1.2 -> 109.16667 | O6: =(M6-H6)/H6 -> 0 | P6: =MATCH(O6,L6) -> 1
A7: TST-308-MN | B7: Stratto 800 Basin Unit Trim - Matt Black | C7: Matt Black | D7: Furniture | E7: Stratto | F7: 10 | G7: 109.16667 | H7: 131 | J7: Esclusiva | K7: 5061025554508 | L7: 0.06 | M7: =ROUND((H7*(100%+L7)),0) -> 139 | N7: =M7/1.2 -> 115.83333 | O7: =(M7-H7)/H7 -> 0.061068702 | P7: =MATCH(O7,L7) -> 1
A8: TST-310-BB | B8: Stratto 1000 Basin Unit Trim - Brushed Brass | C8: Brushed Brass | D8: Furniture | E8: Stratto | F8: 10 | G8: 134.16667 | H8: 161 | J8: Esclusiva | K8: 5061025554515 | L8: 0 | M8: =ROUND((H8*(100%+L8)),0) -> 161 | N8: =M8/1.2 -> 134.16667 | O8: =(M8-H8)/H8 -> 0 | P8: =MATCH(O8,L8) -> 1
A9: TST-310-BN | B9: Stratto 1000 Basin Unit Trim - Brushed Nickel | C9: Brushed Nickel | D9: Furniture | E9: Stratto | F9: 10 | G9: 134.16667 | H9: 161 | J9: Esclusiva | K9: 5056838907993 | L9: 0 | M9: =ROUND((H9*(100%+L9)),0) -> 161 | N9: =M9/1.2 -> 134.16667 | O9: =(M9-H9)/H9 -> 0 | P9: =MATCH(O9,L9) -> 1
A10: TST-310-MN | B10: Stratto 1000 Basin Unit Trim - Matt Black | C10: Matt Black | D10: Furniture | E10: Stratto | F10: 10 | G10: 134.16667 | H10: 161 | J10: Esclusiva | K10: 5061025554522 | L10: 0.06 | M10: =ROUND((H10*(100%+L10)),0) -> 171 | N10: =M10/1.2 -> 142.5 | O10: =(M10-H10)/H10 -> 0.062111801 | P10: =MATCH(O10,L10) -> 1
A11: TST-312-BB | B11: Stratto 1200 Basin Unit Trim - Brushed Brass | C11: Brushed Brass | D11: Furniture | E11: Stratto | F11: 10 | G11: 159.16667 | H11: 191 | J11: Esclusiva | K11: 5061025554539 | L11: 0 | M11: =ROUND((H11*(100%+L11)),0) -> 191 | N11: =M11/1.2 -> 159.16667 | O11: =(M11-H11)/H11 -> 0 | P11: =MATCH(O11,L11) -> 1
A12: TST-314-BB | B12: Stratto 1400 Basin Unit Trim - Brushed Brass | C12: Brushed Brass | D12: Furniture | E12: Stratto | F12: 10 | G12: 185 | H12: 222 | J12: Esclusiva | K12: 5061025554553 | L12: 0 | M12: =ROUND((H12*(100%+L12)),0) -> 222 | N12: =M12/1.2 -> 185 | O12: =(M12-H12)/H12 -> 0 | P12: =MATCH(O12,L12) -> 1
A13: TST-601-DB | B13: Stratto Tall Unit - Dusky Blue | C13: Dusky Blue | D13: Furniture | E13: Stratto | F13: 10 | G13: 702.5 | H13: 843 | J13: Esclusiva | K13: 5056838908020 | L13: 0.06 | M13: =ROUND((H13*(100%+L13)),0) -> 894 | N13: =M13/1.2 -> 745 | O13: =(M13-H13)/H13 -> 0.060498221 | P13: =MATCH(O13,L13) -> 1
... A23: TCS-402-MN | B23: Pair of Cosenza Basin Unit Legs Matt Black - 1 x straight, 1 x with towel hanger | C23: Matt Black | D23: Furniture | E23: Cosenza | F23: 22 | G23: 169.16667 | H23: 203 | J23: Esclusiva | K23: 5056838908136 | L23: 0.03 | M23: =ROUND((H23*(100%+L23)),0) -> 209 | N23: =M23/1.2 -> 174.16667 | O23: =(M23-H23)/H23 -> 0.02955665 | P23: =MATCH(O23,L23) -> #N/A
A24: TMZ-101-BU | B24: Mozzano 600 Basin Unit - Midnight Blue | C24: Midnight Blue | D24: Furniture | E24: Mozzano | F24: 30 | G24: 582.5 | H24: 699 | K24: 5061025551040 | L24: 0.05 | M24: =ROUND((H24*(100%+L24)),0) -> 734 | N24: =M24/1.2 -> 611.66667 | O24: =(M24-H24)/H24 -> 0.050071531 | P24: =MATCH(O24,L24) -> 1
A25: TMZ-101-MG | B25: Mozzano 600 Basin Unit - Matt Grey | C25: Matt Grey | D25: Furniture | E25: Mozzano | F25: 30 | G25: 582.5 | H25: 699 | K25: 5060848444126 | L25: 0.05 | M25: =ROUND((H25*(100%+L25)),0) -> 734 | N25: =M25/1.2 -> 611.66667 | O25: =(M25-H25)/H25 -> 0.050071531 | P25: =MATCH(O25,L25) -> 1
A26: TMZ-101-MW | B26: Mozzano 600 Basin Unit - Matt White | C26: Matt White | D26: Furniture | E26: Mozzano | F26: 30 | G26: 582.5 | H26: 699 | K26: 5060848444133 | L26: 0.05 | M26: =ROUND((H26*(100%+L26)),0) -> 734 | N26: =M26/1.2 -> 611.66667 | O26: =(M26-H26)/H26 -> 0.050071531 | P26: =MATCH(O26,L26) -> 1
A27: TMZ-101-SG | B27: Mozzano 600 Basin Unit - Sila Green | C27: Sila Green | D27: Furniture | E27: Mozzano | F27: 30 | G27: 582.5 | H27: 699 | K27: 5061025551033 | L27: 0.05 | M27: =ROUND((H27*(100%+L27)),0) -> 734 | N27: =M27/1.2 -> 611.66667 | O27: =(M27-H27)/H27 -> 0.050071531 | P27: =MATCH(O27,L27) -> 1
A28: TMZ-101-ST | B28: Mozzano 600 Basin Unit - Soft Taupe | C28: Soft Taupe | D28: Furniture | E28: Mozzano | F28: 30 | G28: 582.5 | H28: 699 | K28: 5056838908662 | L28: 0.05 | M28: =ROUND((H28*(100%+L28)),0) -> 734 | N28: =M28/1.2 -> 611.66667 | O28: =(M28-H28)/H28 -> 0.050071531 | P28: =MATCH(O28,L28) -> 1
A29: TMZ-101-WH | B29: Mozzano 600 Basin Unit - Gloss White | C29: Gloss White | D29: Furniture | E29: Mozzano | F29: 30 | G29: 582.5 | H29: 699 | K29: 5060848444140 | L29: 0.05 | M29: =ROUND((H29*(100%+L29)),0) -> 734 | N29: =M29/1.2 -> 611.66667 | O29: =(M29-H29)/H29 -> 0.050071531 | P29: =MATCH(O29,L29) -> 1
A30: TMZ-102-BU | B30: Mozzano 800 Basin Unit - Midnight Blue | C30: Midnight Blue | D30: Furniture | E30: Mozzano | F30: 30 | G30: 632.5 | H30: 759 | K30: 5061025551064 | L30: 0.05 | M30: =ROUND((H30*(100%+L30)),0) -> 797 | N30: =M30/1.2 -> 664.16667 | O30: =(M30-H30)/H30 -> 0.050065876 | P30: =MATCH(O30,L30) -> 1
A31: TMZ-102-MG | B31: Mozzano 800 Basin Unit - Matt Grey | C31: Matt Grey | D31: Furniture | E31: Mozzano | F31: 30 | G31: 632.5 | H31: 759 | K31: 5060848444164 | L31: 0.05 | M31: =ROUND((H31*(100%+L31)),0) -> 797 | N31: =M31/1.2 -> 664.16667 | O31: =(M31-H31)/H31 -> 0.050065876 | P31: =MATCH(O31,L31) -> 1
A32: TMZ-102-MW | B32: Mozzano 800 Basin Unit - Matt White | C32: Matt White | D32: Furniture | E32: Mozzano | F32: 30 | G32: 632.5 | H32: 759 | K32: 5060848444171 | L32: 0.05 | M32: =ROUND((H32*(100%+L32)),0) -> 797 | N32: =M32/1.2 -> 664.16667 | O32: =(M32-H32)/H32 -> 0.050065876 | P32: =MATCH(O32,L32) -> 1
A33: TMZ-102-SG | B33: Mozzano 800 Basin Unit - Sila Green | C33: Sila Green | D33: Furniture | E33: Mozzano | F33: 30 | G33: 632.5 | H33: 759 | K33: 5061025551057 | L33: 0.05 | M33: =ROUND((H33*(100%+L33)),0) -> 797 | N33: =M33/1.2 -> 664.16667 | O33: =(M33-H33)/H33 -> 0.050065876 | P33: =MATCH(O33,L33) -> 1
A34: TMZ-102-ST | B34: Mozzano 800 Basin Unit - Soft Taupe | C34: Soft Taupe | D34: Furniture | E34: Mozzano | F34: 30 | G34: 632.5 | H34: 759 | K34: 5056838908679 | L34: 0.05 | M34: =ROUND((H34*(100%+L34)),0) -> 797 | N34: =M34/1.2 -> 664.16667 | O34: =(M34-H34)/H34 -> 0.050065876 | P34: =MATCH(O34,L34) -> 1
A35: TMZ-102-WH | B35: Mozzano 800 Basin Unit - Gloss White | C35: Gloss White | D35: Furniture | E35: Mozzano | F35: 30 | G35: 632.5 | H35: 759 | K35: 5060848444188 | L35: 0.05 | M35: =ROUND((H35*(100%+L35)),0) -> 797 | N35: =M35/1.2 -> 664.16667 | O35: =(M35-H35)/H35 -> 0.050065876 | P35: =MATCH(O35,L35) -> 1
... A91: TWC-101-BU | B91: Back To Wall WC Unit and Worktop - Midnight Blue | C91: Midnight Blue | D91: Furniture | E91: WC Units | F91: 37 | G91: 225 | H91: 270 | K91: 5061025553235 | L91: 0.03 | M91: =ROUND((H91*(100%+L91)),0) -> 278 | N91: =M91/1.2 -> 231.66667 | O91: =(M91-H91)/H91 -> 0.02962963 | P91: =MATCH(O91,L91) -> #N/A
A92: TWC-101-LO | B92: WC Unit - Light Oak | C92: Light Oak | D92: Furniture | E92: WC Units | F92: 37 | G92: 225 | H92: 270 | J92: Esclusiva | K92: 5061025553563 | L92: 0.03 | M92: =ROUND((H92*(100%+L92)),0) -> 278 | N92: =M92/1.2 -> 231.66667 | O92: =(M92-H92)/H92 -> 0.02962963 | P92: =MATCH(O92,L92) -> #N/A
A93: TWC-101-MG | B93: Back To Wall WC Unit and Worktop - Matt Grey | C93: Matt Grey | D93: Furniture | E93: WC Units | F93: 37 | G93: 225 | H93: 270 | K93: 5061025553211 | L93: 0.03 | M93: =ROUND((H93*(100%+L93)),0) -> 278 | N93: =M93/1.2 -> 231.66667 | O93: =(M93-H93)/H93 -> 0.02962963 | P93: =MATCH(O93,L93) -> #N/A
A94: TWC-101-MW | B94: Back To Wall WC Unit and Worktop - Matt White | C94: Matt White | D94: Furniture | E94: WC Units | F94: 37 | G94: 225 | H94: 270 | K94: 5061025553204 | L94: 0.03 | M94: =ROUND((H94*(100%+L94)),0) -> 278 | N94: =M94/1.2 -> 231.66667 | O94: =(M94-H94)/H94 -> 0.02962963 | P94: =MATCH(O94,L94) -> #N/A
A95: TWC-101-NO | B95: WC Unit - Natural Oak | C95: Natural Oak | D95: Furniture | E95: WC Units | F95: 37 | G95: 225 | H95: 270 | J95: Esclusiva | K95: 5061025553556 | L95: 0.03 | M95: =ROUND((H95*(100%+L95)),0) -> 278 | N95: =M95/1.2 -> 231.66667 | O95: =(M95-H95)/H95 -> 0.02962963 | P95: =MATCH(O95,L95) -> #N/A
A96: TWC-101-SG | B96: Back To Wall WC Unit and Worktop - Sage Green | C96: Sage Green | D96: Furniture | E96: WC Units | F96: 37 | G96: 225 | H96: 270 | K96: 5061025553242 | L96: 0.03 | M96: =ROUND((H96*(100%+L96)),0) -> 278 | N96: =M96/1.2 -> 231.66667 | O96: =(M96-H96)/H96 -> 0.02962963 | P96: =MATCH(O96,L96) -> #N/A
A97: TWC-101-ST | B97: Back To Wall WC Unit and Worktop - Soft Taupe | C97: Soft Taupe | D97: Furniture | E97: WC Units | F97: 37 | G97: 225 | H97: 270 | K97: 5061025553228 | L97: 0.03 | M97: =ROUND((H97*(100%+L97)),0) -> 278 | N97: =M97/1.2 -> 231.66667 | O97: =(M97-H97)/H97 -> 0.02962963 | P97: =MATCH(O97,L97) -> #N/A
A98: TUN-401 | B98: L Shape Furniture Organiser | D98: Furniture | E98: Furniture Inserts | F98: 38 | G98: 40 | H98: 48 | K98: 5056838922712 | L98: 0 | M98: =ROUND((H98*(100%+L98)),0) -> 48 | N98: =M98/1.2 -> 40 | O98: =(M98-H98)/H98 -> 0 | P98: =MATCH(O98,L98) -> 1
A99: TRG-402-GS | B99: Giorgio2 Rectangle Shower Tray 900 x 700 Grey Slate | C99: Grey Slate | D99: Showering | E99: Giorgio2 | F99: 42 | G99: 465 | H99: 558 | K99: 5060485536789 | L99: 0.04 | M99: =ROUND((H99*(100%+L99)),0) -> 580 | N99: =M99/1.2 -> 483.33333 | O99: =(M99-H99)/H99 -> 0.039426523 | P99: =MATCH(O99,L99) -> #N/A
A100: TRG-402-RS | B100: Giorgio2 Rectangle Shower Tray 900 x 700 Graphite Slate | C100: Graphite Slate | D100: Showering | E100: Giorgio2 | F100: 42 | G100: 465 | H100: 558 | K100: 5060848449763 | L100: 0.04 | M100: =ROUND((H100*(100%+L100)),0) -> 580 | N100: =M100/1.2 -> 483.33333 | O100: =(M100-H100)/H100 -> 0.039426523 | P100: =MATCH(O100,L100) -> #N/A
A101: TRG-402-ST | B101: Giorgio2 Rectangle Shower Tray 900 x 700 Soft Taupe Slate | C101: Soft Taupe Slate | D101: Showering | E101: Giorgio2 | F101: 42 | G101: 465 | H101: 558 | K101: 5061025552016 | L101: 0.04 | M101: =ROUND((H101*(100%+L101)),0) -> 580 | N101: =M101/1.2 -> 483.33333 | O101: =(M101-H101)/H101 -> 0.039426523 | P101: =MATCH(O101,L101) -> #N/A
A102: TRG-402-WS | B102: Giorgio2 Rectangle Shower Tray 900 x 700 White Slate | C102: White Slate | D102: Showering | E102: Giorgio2 | F102: 42 | G102: 465 | H102: 558 | K102: 5060485536277 | L102: 0.04 | M102: =ROUND((H102*(100%+L102)),0) -> 580 | N102: =M102/1.2 -> 483.33333 | O102: =(M102-H102)/H102 -> 0.039426523 | P102: =MATCH(O102,L102) -> #N/A
A103: TRG-404-GS | B103: Giorgio2 Rectangle Shower Tray 1200 x 700 Grey Slate | C103: Grey Slate | D103: Showering | E103: Giorgio2 | F103: 42 | G103: 524.16667 | H103: 629 | K103: 5060485536802 | L103: 0.05 | M103: =ROUND((H103*(100%+L103)),0) -> 660 | N103: =M103/1.2 -> 550 | O103: =(M103-H103)/H103 -> 0.049284579 | P103: =MATCH(O103,L103) -> #N/A
A104: TRG-404-MN | B104: Giorgio2 Rectangle Shower Tray 1200 x 700 Black Slate | C104: Black Slate | D104: Showering | E104: Giorgio2 | F104: 42 | G104: 524.16667 | H104: 629 | K104: 5060848442023 | L104: 0.05 | M104: =ROUND((H104*(100%+L104)),0) -> 660 | N104: =M104/1.2 -> 550 | O104: =(M104-H104)/H104 -> 0.049284579 | P104: =MATCH(O104,L104) -> #N/A
A105: TRG-404-RS | B105: Giorgio2 Rectangle Shower Tray 1200 x 700 Graphite Slate | C105: Graphite Slate | D105: Showering | E105: Giorgio2 | F105: 42 | G105: 524.16667 | H105: 629 | K105: 5060848449770 | L105: 0.05 | M105: =ROUND((H105*(100%+L105)),0) -> 660 | N105: =M105/1.2 -> 550 | O105: =(M105-H105)/H105 -> 0.049284579 | P105: =MATCH(O105,L105) -> #N/A
A106: TRG-404-ST | B106: Giorgio2 Rectangle Shower Tray 1200 x 700 Soft Taupe Slate | C106: Soft Taupe Slate | D106: Showering | E106: Giorgio2 | F106: 42 | G106: 524.16667 | H106: 629 | K106: 5061025552023 | L106: 0.05 | M106: =ROUND((H106*(100%+L106)),0) -> 660 | N106: =M106/1.2 -> 550 | O106: =(M106-H106)/H106 -> 0.049284579 | P106: =MATCH(O106,L106) -> #N/A
A107: TRG-404-WS | B107: Giorgio2 Rectangle Shower Tray 1200 x 700 White Slate | C107: White Slate | D107: Showering | E107: Giorgio2 | F107: 42 | G107: 524.16667 | H107: 629 | K107: 5060485536291 | L107: 0.05 | M107: =ROUND((H107*(100%+L107)),0) -> 660 | N107: =M107/1.2 -> 550 | O107: =(M107-H107)/H107 -> 0.049284579 | P107: =MATCH(O107,L107) -> #N/A
A108: TRG-405-GS | B108: Giorgio2 Rectangle Shower Tray 1400 x 700 Grey Slate | C108: Grey Slate | D108: Showering | E108: Giorgio2 | F108: 42 | G108: 560 | H108: 672 | K108: 5060485536819 | L108: 0.05 | M108: =ROUND((H108*(100%+L108)),0) -> 706 | N108: =M108/1.2 -> 588.33333 | O108: =(M108-H108)/H108 -> 0.050595238 | P108: =MATCH(O108,L108) -> 1
A109: TRG-405-MN | B109: Giorgio2 Rectangle Shower Tray 1400 x 700 Black Slate | C109: Black Slate | D109: Showering | E109: Giorgio2 | F109: 42 | G109: 560 | H109: 672 | K109: 5060848442030 | L109: 0.05 | M109: =ROUND((H109*(100%+L109)),0) -> 706 | N109: =M109/1.2 -> 588.33333 | O109: =(M109-H109)/H109 -> 0.050595238 | P109: =MATCH(O109,L109) -> 1
A110: TRG-405-RS | B110: Giorgio2 Rectangle Shower Tray 1400 x 700 Graphite Slate | C110: Graphite Slate | D110: Showering | E110: Giorgio2 | F110: 42 | G110: 560 | H110: 672 | K110: 5060848449787 | L110: 0.05 | M110: =ROUND((H110*(100%+L110)),0) -> 706 | N110: =M110/1.2 -> 588.33333 | O110: =(M110-H110)/H110 -> 0.050595238 | P110: =MATCH(O110,L110) -> 1
... A426: TRG-672-WS | B426: Giorgio Wall Panel 1000 x 2400 White Slate | C426: White Slate | D426: Showering | E426: Giorgio Wall Panels | F426: 56 | G426: 417.5 | H426: 501 | K426: 5056838916193 | L426: 0.05 | M426: =ROUND((H426*(100%+L426)),0) -> 526 | N426: =M426/1.2 -> 438.33333 | O426: =(M426-H426)/H426 -> 0.0499002 | P426: =MATCH(O426,L426) -> #N/A
A427: TMO-433-MW | B427: Mont 1000 x 800 Shower Tray - Matt White | C427: Matt White | D427: Showering | E427: Mont | F427: 58 | G427: 459.16667 | H427: 551 | I427: NEW | K427: 5056838923986 | L427: 0 | M427: =ROUND((H427*(100%+L427)),0) -> 551 | N427: =M427/1.2 -> 459.16667 | O427: =(M427-H427)/H427 -> 0 | P427: =MATCH(O427,L427) -> 1
A428: TMO-434-MW | B428: Mont 1200 x 800 Shower Tray - Matt White | C428: Matt White | D428: Showering | E428: Mont | F428: 58 | G428: 495 | H428: 594 | I428: NEW | K428: 5056838923993 | L428: 0 | M428: =ROUND((H428*(100%+L428)),0) -> 594 | N428: =M428/1.2 -> 495 | O428: =(M428-H428)/H428 -> 0 | P428: =MATCH(O428,L428) -> 1
A429: TMO-435-MW | B429: Mont 1400 x 800 Shower Tray - Matt White | C429: Matt White | D429: Showering | E429: Mont | F429: 58 | G429: 551.66667 | H429: 662 | I429: NEW | K429: 5056838924013 | L429: 0 | M429: =ROUND((H429*(100%+L429)),0) -> 662 | N429: =M429/1.2 -> 551.66667 | O429: =(M429-H429)/H429 -> 0 | P429: =MATCH(O429,L429) -> 1
A430: TMO-436-MW | B430: Mont 1500 x 800 Shower Tray - Matt White | C430: Matt White | D430: Showering | E430: Mont | F430: 58 | G430: 581.66667 | H430: 698 | I430: NEW | K430: 5056838924037 | L430: 0 | M430: =ROUND((H430*(100%+L430)),0) -> 698 | N430: =M430/1.2 -> 581.66667 | O430: =(M430-H430)/H430 -> 0 | P430: =MATCH(O430,L430) -> 1
A431: TMO-437-MW | B431: Mont 1600 x 800 Shower Tray - Matt White | C431: Matt White | D431: Showering | E431: Mont | F431: 58 | G431: 625.83333 | H431: 751 | I431: NEW | K431: 5056838924051 | L431: 0 | M431: =ROUND((H431*(100%+L431)),0) -> 751 | N431: =M431/1.2 -> 625.83333 | O431: =(M431-H431)/H431 -> 0 | P431: =MATCH(O431,L431) -> 1
A432: TMO-568-MW | B432: Mont 1700 x 750 Shower Tray - Matt White | C432: Matt White | D432: Showering | E432: Mont | F432: 58 | G432: 688.33333 | H432: 826 | I432: NEW | K432: 5056838924082 | L432: 0 | M432: =ROUND((H432*(100%+L432)),0) -> 826 | N432: =M432/1.2 -> 688.33333 | O432: =(M432-H432)/H432 -> 0 | P432: =MATCH(O432,L432) -> 1
A433: TMO-439-MW | B433: Mont 1800 x 800 Shower Tray - Matt White | C433: Matt White | D433: Showering | E433: Mont | F433: 58 | G433: 727.5 | H433: 873 | I433: NEW | K433: 5056838924112 | L433: 0 | M433: =ROUND((H433*(100%+L433)),0) -> 873 | N433: =M433/1.2 -> 727.5 | O433: =(M433-H433)/H433 -> 0 | P433: =MATCH(O433,L433) -> 1
A434: TMO-469-MW | B434: Mont 1800 x 900 Shower Tray - Matt White | C434: Matt White | D434: Showering | E434: Mont | F434: 58 | G434: 857.5 | H434: 1029 | I434: NEW | K434: 5056838924129 | L434: 0 | M434: =ROUND((H434*(100%+L434)),0) -> 1029 | N434: =M434/1.2 -> 857.5 | O434: =(M434-H434)/H434 -> 0 | P434: =MATCH(O434,L434) -> 1
A435: TFZ-144-WM | B435: Finezza 1200 x 800 Shower Tray - White Marble | C435: White Marble | D435: Showering | E435: Finezza | F435: 62 | G435: 555 | H435: 666 | J435: Esclusiva | K435: 5060848440982 | L435: 0.03 | M435: =ROUND((H435*(100%+L435)),0) -> 686 | N435: =M435/1.2 -> 571.66667 | O435: =(M435-H435)/H435 -> 0.03003003 | P435: =MATCH(O435,L435) -> 1
A436: TFZ-145-WM | B436: Finezza 1400 x 800 Shower Tray - White Marble | C436: White Marble | D436: Showering | E436: Finezza | F436: 62 | G436: 612.5 | H436: 735 | J436: Esclusiva | K436: 5060848440999 | L436: 0.03 | M436: =ROUND((H436*(100%+L436)),0) -> 757 | N436: =M436/1.2 -> 630.83333 | O436: =(M436-H436)/H436 -> 0.029931973 | P436: =MATCH(O436,L436) -> #N/A
A437: TFZ-146-WM | B437: Finezza 1500 x 800 Shower Tray - White Marble | C437: White Marble | D437: Showering | E437: Finezza | F437: 62 | G437: 645 | H437: 774 | J437: Esclusiva | K437: 5060848441002 | L437: 0.03 | M437: =ROUND((H437*(100%+L437)),0) -> 797 | N437: =M437/1.2 -> 664.16667 | O437: =(M437-H437)/H437 -> 0.029715762 | P437: =MATCH(O437,L437) -> #N/A
A438: TFZ-148-WM | B438: Finezza 1700 x 800 Shower Tray - White Marble | C438: White Marble | D438: Showering | E438: Finezza | F438: 62 | G438: 770 | H438: 924 | J438: Esclusiva | K438: 5060848441026 | L438: 0.03 | M438: =ROUND((H438*(100%+L438)),0) -> 952 | N438: =M438/1.2 -> 793.33333 | O438: =(M438-H438)/H438 -> 0.03030303 | P438: =MATCH(O438,L438) -> 1
A439: TFZ-164-WM | B439: Finezza 1200 x 900 Shower Tray - White Marble | C439: White Marble | D439: Showering | E439: Finezza | F439: 62 | G439: 590.83333 | H439: 709 | J439: Esclusiva | K439: 5060848441040 | L439: 0.03 | M439: =ROUND((H439*(100%+L439)),0) -> 730 | N439: =M439/1.2 -> 608.33333 | O439: =(M439-H439)/H439 -> 0.029619182 | P439: =MATCH(O439,L439) -> #N/A
A440: TFZ-165-WM | B440: Finezza 1400 x 900 Shower Tray - White Marble | C440: White Marble | D440: Showering | E440: Finezza | F440: 62 | G440: 683.33333 | H440: 820 | J440: Esclusiva | K440: 5060848441057 | L440: 0.03 | M440: =ROUND((H440*(100%+L440)),0) -> 845 | N440: =M440/1.2 -> 704.16667 | O440: =(M440-H440)/H440 -> 0.030487805 | P440: =MATCH(O440,L440) -> 1
A441: TFZ-166-WM | B441: Finezza 1500 x 900 Shower Tray - White Marble | C441: White Marble | D441: Showering | E441: Finezza | F441: 62 | G441: 745 | H441: 894 | J441: Esclusiva | K441: 5060848441064 | L441: 0.03 | M441: =ROUND((H441*(100%+L441)),0) -> 921 | N441: =M441/1.2 -> 767.5 | O441: =(M441-H441)/H441 -> 0.030201342 | P441: =MATCH(O441,L441) -> 1
A442: TFZ-168-WM | B442: Finezza 1700 x 900 Shower Tray - White Marble | C442: White Marble | D442: Showering | E442: Finezza | F442: 62 | G442: 918.33333 | H442: 1102 | J442: Esclusiva | K442: 5060848441071 | L442: 0.03 | M442: =ROUND((H442*(100%+L442)),0) -> 1135 | N442: =M442/1.2 -> 945.83333 | O442: =(M442-H442)/H442 -> 0.029945554 | P442: =MATCH(O442,L442) -> #N/A
A443: TFO-401 | B443: Fiorti Square 700 x 700 Shower Tray - White | C443: White | D443: Showering | E443: Fiorti | F443: 64 | G443: 190.83333 | H443: 229 | K443: 5056838916568 | L443: 0.05 | M443: =ROUND((H443*(100%+L443)),0) -> 240 | N443: =M443/1.2 -> 200 | O443: =(M443-H443)/H443 -> 0.048034934 | P443: =MATCH(O443,L443) -> #N/A
A444: TFO-402 | B444: Fiorti Square 760 x 760 Shower Tray - White | C444: White | D444: Showering | E444: Fiorti | F444: 64 | G444: 205 | H444: 246 | K444: 5056838916575 | L444: 0.05 | M444: =ROUND((H444*(100%+L444)),0) -> 258 | N444: =M444/1.2 -> 215 | O444: =(M444-H444)/H444 -> 0.048780488 | P444: =MATCH(O444,L444) -> #N/A
A445: TFO-403 | B445: Fiorti Rectangular 760 x 700 Shower Tray - White | C445: White | D445: Showering | E445: Fiorti | F445: 64 | G445: 198.33333 | H445: 238 | K445: 5056838916582 | L445: 0.05 | M445: =ROUND((H445*(100%+L445)),0) -> 250 | N445: =M445/1.2 -> 208.33333 | O445: =(M445-H445)/H445 -> 0.050420168 | P445: =MATCH(O445,L445) -> 1
A446: TFO-404 | B446: Fiorti Rectangular 800 x 700 Shower Tray - White | C446: White | D446: Showering | E446: Fiorti | F446: 64 | G446: 200.83333 | H446: 241 | K446: 5056838916599 | L446: 0.05 | M446: =ROUND((H446*(100%+L446)),0) -> 253 | N446: =M446/1.2 -> 210.83333 | O446: =(M446-H446)/H446 -> 0.049792531 | P446: =MATCH(O446,L446) -> #N/A
A447: TFO-405 | B447: Fiorti Rectangular 800 x 760 Shower Tray - White | C447: White | D447: Showering | E447: Fiorti | F447: 64 | G447: 207.5 | H447: 249 | K447: 5056838916605 | L447: 0.05 | M447: =ROUND((H447*(100%+L447)),0) -> 261 | N447: =M447/1.2 -> 217.5 | O447: =(M447-H447)/H447 -> 0.048192771 | P447: =MATCH(O447,L447) -> #N/A
A448: TFO-406 | B448: Fiorti Square 800 x 800 Shower Tray - White | C448: White | D448: Showering | E448: Fiorti | F448: 64 | G448: 211.66667 | H448: 254 | K448: 5056838916612 | L448: 0.05 | M448: =ROUND((H448*(100%+L448)),0) -> 267 | N448: =M448/1.2 -> 222.5 | O448: =(M448-H448)/H448 -> 0.051181102 | P448: =MATCH(O448,L448) -> 1
A449: TFO-407 | B449: Fiorti Rectangular 900 x 700 Shower Tray - White | C449: White | D449: Showering | E449: Fiorti | F449: 64 | G449: 212.5 | H449: 255 | K449: 5056838916629 | L449: 0.05 | M449: =ROUND((H449*(100%+L449)),0) -> 268 | N449: =M449/1.2 -> 223.33333 | O449: =(M449-H449)/H449 -> 0.050980392 | P449: =MATCH(O449,L449) -> 1
A450: TFO-408 | B450: Fiorti Rectangular 900 x 760 Shower Tray - White | C450: White | D450: Showering | E450: Fiorti | F450: 64 | G450: 225 | H450: 270 | K450: 5056838916636 | L450: 0.05 | M450: =ROUND((H450*(100%+L450)),0) -> 284 | N450: =M450/1.2 -> 236.66667 | O450: =(M450-H450)/H450 -> 0.051851852 | P450: =MATCH(O450,L450) -> 1
A451: TFO-409 | B451: Fiorti Rectangular 900 x 800 Shower Tray - White | C451: White | D451: Showering | E451: Fiorti | F451: 64 | G451: 229.16667 | H451: 275 | K451: 5056838916643 | L451: 0.05 | M451: =ROUND((H451*(100%+L451)),0) -> 289 | N451: =M451/1.2 -> 240.83333 | O451: =(M451-H451)/H451 -> 0.050909091 | P451: =MATCH(O451,L451) -> 1
A452: TFO-410 | B452: Fiorti Square 900 x 900 Shower Tray - White | C452: White | D452: Showering | E452: Fiorti | F452: 64 | G452: 252.5 | H452: 303 | K452: 5056838916650 | L452: 0.05 | M452: =ROUND((H452*(100%+L452)),0) -> 318 | N452: =M452/1.2 -> 265 | O452: =(M452-H452)/H452 -> 0.04950495 | P452: =MATCH(O452,L452) -> #N/A
A453: TFO-412 | B453: Fiorti Rectangular 1000 x 760 Shower Tray - White | C453: White | D453: Showering | E453: Fiorti | F453: 64 | G453: 248.33333 | H453: 298 | K453: 5056838916674 | L453: 0.05 | M453: =ROUND((H453*(100%+L453)),0) -> 313 | N453: =M453/1.2 -> 260.83333 | O453: =(M453-H453)/H453 -> 0.05033557 | P453: =MATCH(O453,L453) -> 1
A454: TFO-413 | B454: Fiorti Rectangular 1000 x 800 Shower Tray - White | C454: White | D454: Showering | E454: Fiorti | F454: 64 | G454: 248.33333 | H454: 298 | K454: 5056838916681 | L454: 0.05 | M454: =ROUND((H454*(100%+L454)),0) -> 313 | N454: =M454/1.2 -> 260.83333 | O454: =(M454-H454)/H454 -> 0.05033557 | P454: =MATCH(O454,L454) -> 1
... A496: TFO-902 | B496: Fiorti Rectangular Panel Kit 1700 x 900 - White | C496: White | D496: Showering | E496: Fiorti | F496: 64 | G496: 190 | H496: 228 | K496: 5056838905258 | L496: 0.05 | M496: =ROUND((H496*(100%+L496)),0) -> 239 | N496: =M496/1.2 -> 199.16667 | O496: =(M496-H496)/H496 -> 0.048245614 | P496: =MATCH(O496,L496) -> #N/A
A497: TFO-903 | B497: Fiorti Quadrant Panel Kit 1000 x 800 - White | C497: White | D497: Showering | E497: Fiorti | F497: 64 | G497: 169.16667 | H497: 203 | K497: #N/A | L497: 0.05 | M497: =ROUND((H497*(100%+L497)),0) -> 213 | N497: =M497/1.2 -> 177.5 | O497: =(M497-H497)/H497 -> 0.049261084 | P497: =MATCH(O497,L497) -> #N/A
A498: TFO-904 | B498: Fiorti Quadrant Panel Kit 1200 x 900 - White | C498: White | D498: Showering | E498: Fiorti | F498: 64 | G498: 190 | H498: 228 | K498: #N/A | L498: 0.05 | M498: =ROUND((H498*(100%+L498)),0) -> 239 | N498: =M498/1.2 -> 199.16667 | O498: =(M498-H498)/H498 -> 0.048245614 | P498: =MATCH(O498,L498) -> #N/A
A499: TTV-209-BB | B499: Tavo Clear Glass Brushed Brass 300mm Flipper Panel | C499: Brushed Brass | D499: Showering | E499: Tavo | F499: 68 | G499: 252.5 | H499: 303 | J499: Esclusiva | K499: 5056838905067 | L499: 0.06 | M499: =ROUND((H499*(100%+L499)),0) -> 321 | N499: =M499/1.2 -> 267.5 | O499: =(M499-H499)/H499 -> 0.059405941 | P499: =MATCH(O499,L499) -> #N/A
A500: TTV-209-BN | B500: Tavo Clear Glass Brushed Nickel 300mm Flipper Panel | C500: Brushed Nickel | D500: Showering | E500: Tavo | F500: 68 | G500: 170 | H500: 204 | J500: Esclusiva | K500: 5056838917275 | L500: 0.06 | M500: =ROUND((H500*(100%+L500)),0) -> 216 | N500: =M500/1.2 -> 180 | O500: =(M500-H500)/H500 -> 0.058823529 | P500: =MATCH(O500,L500) -> #N/A
A501: TTV-209-CP | B501: Tavo Clear Glass Chrome 300mm Flipper Panel | C501: Chrome | D501: Showering | E501: Tavo | F501: 68 | G501: 174.16667 | H501: 209 | J501: Esclusiva | K501: 5056838905043 | L501: 0.06 | M501: =ROUND((H501*(100%+L501)),0) -> 222 | N501: =M501/1.2 -> 185 | O501: =(M501-H501)/H501 -> 0.062200957 | P501: =MATCH(O501,L501) -> 1
A502: TTV-209-MN | B502: Tavo Clear Glass Matt Black 300mm Flipper Panel | C502: Matt Black | D502: Showering | E502: Tavo | F502: 68 | G502: 170 | H502: 204 | J502: Esclusiva | K502: 5056838905050 | L502: 0.06 | M502: =ROUND((H502*(100%+L502)),0) -> 216 | N502: =M502/1.2 -> 180 | O502: =(M502-H502)/H502 -> 0.058823529 | P502: =MATCH(O502,L502) -> #N/A
A503: TTV-209-BN-FL | B503: Tavo Fluted Glass Brushed Nickel 300mm Flipper Panel | C503: Brushed Nickel | D503: Showering | E503: Tavo | F503: 68 | G503: 170 | H503: 204 | J503: Esclusiva | K503: 5056838917268 | L503: 0.06 | M503: =ROUND((H503*(100%+L503)),0) -> 216 | N503: =M503/1.2 -> 180 | O503: =(M503-H503)/H503 -> 0.058823529 | P503: =MATCH(O503,L503) -> #N/A
A504: TTV-209-MN-FL | B504: Tavo Fluted Glass - Matt Black 300mm Flipper Panel | C504: Matt Black | D504: Showering | E504: Tavo | F504: 68 | G504: 170 | H504: 204 | J504: Esclusiva | K504: 5056838905111 | L504: 0.06 | M504: =ROUND((H504*(100%+L504)),0) -> 216 | N504: =M504/1.2 -> 180 | O504: =(M504-H504)/H504 -> 0.058823529 | P504: =MATCH(O504,L504) -> #N/A
A505: TTV-209-BB-FL | B505: Tavo Fluted Glass Brushed Brass 300mm Flipper Panel | C505: Brushed Brass | D505: Showering | E505: Tavo | F505: 68 | G505: 252.5 | H505: 303 | J505: Esclusiva | K505: 5056838905128 | L505: 0.06 | M505: =ROUND((H505*(100%+L505)),0) -> 321 | N505: =M505/1.2 -> 267.5 | O505: =(M505-H505)/H505 -> 0.059405941 | P505: =MATCH(O505,L505) -> #N/A
A506: TTV-209-CP-FL | B506: Tavo Fluted Glass Chrome 300mm Flipper Panel | C506: Chrome | D506: Showering | E506: Tavo | F506: 68 | G506: 174.16667 | H506: 209 | J506: Esclusiva | K506: 5056838905104 | L506: 0.06 | M506: =ROUND((H506*(100%+L506)),0) -> 222 | N506: =M506/1.2 -> 185 | O506: =(M506-H506)/H506 -> 0.062200957 | P506: =MATCH(O506,L506) -> 1
A507: TTV-209-BN-GT | B507: Tavo Grey Glass Brushed Nickel 300mm Flipper Panel | C507: Brushed Nickel | D507: Showering | E507: Tavo | F507: 68 | G507: 170 | H507: 204 | J507: Esclusiva | K507: 5056838917251 | L507: 0.06 | M507: =ROUND((H507*(100%+L507)),0) -> 216 | N507: =M507/1.2 -> 180 | O507: =(M507-H507)/H507 -> 0.058823529 | P507: =MATCH(O507,L507) -> #N/A
A508: TTV-209-CP-GT | B508: Tavo Grey Glass Chrome 300mm Flipper Panel | C508: Chrome | D508: Showering | E508: Tavo | F508: 68 | G508: 174.16667 | H508: 209 | J508: Esclusiva | K508: 5056838905074 | L508: 0.06 | M508: =ROUND((H508*(100%+L508)),0) -> 222 | N508: =M508/1.2 -> 185 | O508: =(M508-H508)/H508 -> 0.062200957 | P508: =MATCH(O508,L508) -> 1
A509: TTV-209-MN-GT | B509: Tavo Grey Glass Matt Black 300mm Flipper Panel | C509: Matt Black | D509: Showering | E509: Tavo | F509: 68 | G509: 170 | H509: 204 | J509: Esclusiva | K509: 5056838905081 | L509: 0.06 | M509: =ROUND((H509*(100%+L509)),0) -> 216 | N509: =M509/1.2 -> 180 | O509: =(M509-H509)/H509 -> 0.058823529 | P509: =MATCH(O509,L509) -> #N/A
A510: TAR-716-BB | B510: Armano Roller 2000mm Stabilising Bar - Brushed Brass | C510: Brushed Brass | D510: Showering | E510: Armano Roller | F510: 92 | G510: 127.5 | H510: 153 | K510: 5060848446557 | L510: 0.04 | M510: =ROUND((H510*(100%+L510)),0) -> 159 | N510: =M510/1.2 -> 132.5 | O510: =(M510-H510)/H510 -> 0.039215686 | P510: =MATCH(O510,L510) -> #N/A
A511: TAR-716-CP | B511: Armano Roller 2000mm Stabilising Bar - Chrome | C511: Chrome | D511: Showering | E511: Armano Roller | F511: 92 | G511: 127.5 | H511: 153 | K511: 5060848446533 | L511: 0.04 | M511: =ROUND((H511*(100%+L511)),0) -> 159 | N511: =M511/1.2 -> 132.5 | O511: =(M511-H511)/H511 -> 0.039215686 | P511: =MATCH(O511,L511) -> #N/A
A512: TAR-716-MN | B512: Armano Roller 2000mm Stabilising Bar - Matt Black | C512: Matt Black | D512: Showering | E512: Armano Roller | F512: 92 | G512: 127.5 | H512: 153 | K512: 5060848446540 | L512: 0.04 | M512: =ROUND((H512*(100%+L512)),0) -> 159 | N512: =M512/1.2 -> 132.5 | O512: =(M512-H512)/H512 -> 0.039215686 | P512: =MATCH(O512,L512) -> #N/A
A513: TAR-717-BB | B513: Armano Roller 1000mm Stabilising Bar - Brushed Brass | C513: Brushed Brass | D513: Showering | E513: Armano Roller | F513: 92 | G513: 119.16667 | H513: 143 | K513: 5060848446588 | L513: 0.04 | M513: =ROUND((H513*(100%+L513)),0) -> 149 | N513: =M513/1.2 -> 124.16667 | O513: =(M513-H513)/H513 -> 0.041958042 | P513: =MATCH(O513,L513) -> 1
A514: TAR-717-CP | B514: Armano Roller 1000mm Stabilising Bar - Chrome | C514: Chrome | D514: Showering | E514: Armano Roller | F514: 92 | G514: 119.16667 | H514: 143 | K514: 5060848446564 | L514: 0.04 | M514: =ROUND((H514*(100%+L514)),0) -> 149 | N514: =M514/1.2 -> 124.16667 | O514: =(M514-H514)/H514 -> 0.041958042 | P514: =MATCH(O514,L514) -> 1
A515: TAR-717-MN | B515: Armano Roller 1000mm Stabilising Bar - Matt Black | C515: Matt Black | D515: Showering | E515: Armano Roller | F515: 92 | G515: 119.16667 | H515: 143 | K515: 5060848446571 | L515: 0.04 | M515: =ROUND((H515*(100%+L515)),0) -> 149 | N515: =M515/1.2 -> 124.16667 | O515: =(M515-H515)/H515 -> 0.041958042 | P515: =MATCH(O515,L515) -> 1
A516: TAR-801-BB | B516: Armano Roller T Piece Arm Connector - Brushed Brass | C516: Brushed Brass | D516: Showering | E516: Armano Roller | F516: 92 | G516: 79.166667 | H516: 95 | K516: 5060848446618 | L516: 0.04 | M516: =ROUND((H516*(100%+L516)),0) -> 99 | N516: =M516/1.2 -> 82.5 | O516: =(M516-H516)/H516 -> 0.042105263 | P516: =MATCH(O516,L516) -> 1
A517: TAR-801-CP | B517: Armano Roller T Piece Arm Connector - Chrome | C517: Chrome | D517: Showering | E517: Armano Roller | F517: 92 | G517: 79.166667 | H517: 95 | K517: 5060848446595 | L517: 0.04 | M517: =ROUND((H517*(100%+L517)),0) -> 99 | N517: =M517/1.2 -> 82.5 | O517: =(M517-H517)/H517 -> 0.042105263 | P517: =MATCH(O517,L517) -> 1
A518: TAR-801-MN | B518: Armano Roller T Piece Arm Connector - Matt Black | C518: Matt Black | D518: Showering | E518: Armano Roller | F518: 92 | G518: 79.166667 | H518: 95 | K518: 5060848446601 | L518: 0.04 | M518: =ROUND((H518*(100%+L518)),0) -> 99 | N518: =M518/1.2 -> 82.5 | O518: =(M518-H518)/H518 -> 0.042105263 | P518: =MATCH(O518,L518) -> 1
A519: TAR-802-BB | B519: Armano Roller End Profile - Brushed Brass | C519: Brushed Brass | D519: Showering | E519: Armano Roller | F519: 92 | G519: 154.16667 | H519: 185 | K519: 5056838916230 | L519: 0.04 | M519: =ROUND((H519*(100%+L519)),0) -> 192 | N519: =M519/1.2 -> 160 | O519: =(M519-H519)/H519 -> 0.037837838 | P519: =MATCH(O519,L519) -> #N/A
A520: TAR-802-CP | B520: Armano Roller End Profile - Chrome | C520: Chrome | D520: Showering | E520: Armano Roller | F520: 92 | G520: 154.16667 | H520: 185 | K520: 5056838916216 | L520: 0.04 | M520: =ROUND((H520*(100%+L520)),0) -> 192 | N520: =M520/1.2 -> 160 | O520: =(M520-H520)/H520 -> 0.037837838 | P520: =MATCH(O520,L520) -> #N/A
...

Sheet KIT
A1: SKU | B1: Description | C1: Colour | D1: Category | E1: Range | F1: Range Brochure Page | G1: March 2026 RRP Ex VAT | H1: March 2026 RRP | I1: New? | J1: Esclusiva | K1: GTIN | L1: Suggested % increase in RRP FROM CL Sheet | M1: September 2026 RRP
A2: TST-406-DB | B2: Stratto Dusky Blue 600mm Wall Hung Unit & Basin - With Tap Hole | C2: Dusky Blue | D2: Furniture | E2: Stratto | F2: 10 | G2: 1099.1667 | H2: 1319 | J2: Esclusiva | K2: 5061025553600 | L2: KIT
A3: TST-406-MW | B3: Stratto Matt White 600mm Wall Hung Unit & Basin - With Tap Hole | C3: Matt White | D3: Furniture | E3: Stratto | F3: 10 | G3: 1099.1667 | H3: 1319 | J3: Esclusiva | K3: 5061025553570 | L3: KIT
A4: TST-406-ST | B4: Stratto Soft Taupe 600mm Wall Hung Unit & Basin - With Tap Hole | C4: Soft Taupe | D4: Furniture | E4: Stratto | F4: 10 | G4: 1099.1667 | H4: 1319 | J4: Esclusiva | K4: 5061025553587 | L4: KIT
A5: TST-406-TB | B5: Stratto Terracotta Blush 600mm Wall Hung Unit & Basin - With Tap Hole | C5: Terracotta Blush | D5: Furniture | E5: Stratto | F5: 10 | G5: 1099.1667 | H5: 1319 | J5: Esclusiva | K5: 5061025553594 | L5: KIT
A6: TST-406-TG | B6: Stratto Tuscan Green 600mm Wall Hung Unit & Basin - With Tap Hole | C6: Tuscan Green | D6: Furniture | E6: Stratto | F6: 10 | G6: 1099.1667 | H6: 1319 | J6: Esclusiva | K6: 5061025553617 | L6: KIT
A7: TST-408-DB | B7: Stratto Dusky Blue 800mm Wall Hung Unit & Basin - With Tap Hole | C7: Dusky Blue | D7: Furniture | E7: Stratto | F7: 10 | G7: 1244.1667 | H7: 1493 | J7: Esclusiva | K7: 5061025553709 | L7: KIT
A8: TST-408-MW | B8: Stratto Matt White 800mm Wall Hung Unit & Basin - With Tap Hole | C8: Matt White | D8: Furniture | E8: Stratto | F8: 10 | G8: 1244.1667 | H8: 1493 | J8: Esclusiva | K8: 5061025553679 | L8: KIT
A9: TST-408-ST | B9: Stratto Soft Taupe 800mm Wall Hung Unit & Basin - With Tap Hole | C9: Soft Taupe | D9: Furniture | E9: Stratto | F9: 10 | G9: 1244.1667 | H9: 1493 | J9: Esclusiva | K9: 5061025553686 | L9: KIT
A10: TST-408-TB | B10: Stratto Terracotta Blush 800mm Wall Hung Unit & Basin - With Tap Hole | C10: Terracotta Blush | D10: Furniture | E10: Stratto | F10: 10 | G10: 1244.1667 | H10: 1493 | J10: Esclusiva | K10: 5061025553693 | L10: KIT
A11: TST-408-TG | B11: Stratto Tuscan Green 800mm Wall Hung Unit & Basin - With Tap Hole | C11: Tuscan Green | D11: Furniture | E11: Stratto | F11: 10 | G11: 1244.1667 | H11: 1493 | J11: Esclusiva | K11: 5061025553716 | L11: KIT
A12: TST-410-DB | B12: Stratto Dusky Blue 1000mm Wall Hung Unit & Basin - With Tap Hole | C12: Dusky Blue | D12: Furniture | E12: Stratto | F12: 10 | G12: 1419.1667 | H12: 1703 | J12: Esclusiva | K12: 5056838906972 | L12: KIT
A13: TST-410-DB-LH | B13: Stratto Dusky Blue 400 + 600 Basin Units & 1000 LH Basin - With Tap Hole | C13: Dusky Blue | D13: Furniture | E13: Stratto | F13: 10 | G13: 1725.8333 | H13: 2071 | J13: Esclusiva | K13: 5056838906989 | L13: KIT
... A282: TCS-661-ST-MN | B282: Cosenza 1200 Floorstanding Matt Soft Taupe Basin Unit with Matt Black Handles | C282: Soft Taupe/Black Handles | D282: Furniture | E282: Cosenza | F282: 22 | G282: 1200.8333 | H282: 1441 | J282: Esclusiva | K282: 5056838905708 | L282: KIT
A283: TMZ-103-SG | B283: Mozzano 500 Basin Unit - Sila Green | C283: Sila Green | D283: Furniture | E283: Mozzano | F283: 30 | G283: 533.33333 | H283: 640 | K283: 5061025551071 | L283: KIT
A284: TMZ-105-MW | B284: Mozzano 800 Basin Unit 390mm Depth - Soft Taupe | C284: Soft Taupe | D284: Furniture | E284: Mozzano | F284: 30 | G284: 589.16667 | H284: 707 | K284: 5061025551170 | L284: KIT
A285: TMZ-301-BU-LH | B285: Mozzano Cloakroom Furniture Unit - Midnight Blue Left Hand | C285: Midnight Blue | D285: Furniture | E285: Mozzano | F285: 30 | G285: 263.33333 | H285: 316 | K285: 5061025551286 | L285: KIT
A286: TMZ-301-WH-LH | B286: Mozzano Cloakroom Furniture Unit - Gloss White Left Hand | C286: Gloss White | D286: Furniture | E286: Mozzano | F286: 30 | G286: 263.33333 | H286: 316 | K286: 5056838908723 | L286: KIT
A287: TMZ-301-WH-RH | B287: Mozzano Cloakroom Furniture Unit - Gloss White Right Hand | C287: Gloss White | D287: Furniture | E287: Mozzano | F287: 30 | G287: 263.33333 | H287: 316 | K287: 5056838908730 | L287: KIT
A288: TON-208 | B288: Oriana 800mm Cast Marble Basin - No Tap Hole | C288: Cast Marble | D288: Furniture | E288: Oriana | F288: 37 | G288: 354.16667 | H288: 425 | K288: 5056838922859 | L288: KIT
A289: TWC-101-DB | B289: WC Unit - Dusky Blue | C289: Dusky Blue | D289: Furniture | E289: WC Units | F289: 37 | G289: 225 | H289: 270 | J289: Esclusiva | K289: 5056838908839 | L289: KIT
A290: TWC-101-TB | B290: WC Unit - Terracotta Blush | C290: Terracotta Blush | D290: Furniture | E290: WC Units | F290: 37 | G290: 225 | H290: 270 | J290: Esclusiva | K290: 5056838908846 | L290: KIT
A291: TWC-101-TG | B291: WC Unit - Tuscan Green | C291: Tuscan Green | D291: Furniture | E291: WC Units | F291: 37 | G291: 225 | H291: 270 | J291: Esclusiva | K291: 5056838908853 | L291: KIT
A292: TWC-101-WH | B292: Back To Wall WC Unit and Worktop - Gloss White | C292: Gloss White | D292: Furniture | E292: WC Units | F292: 37 | G292: 225 | H292: 270 | K292: 5061025553198 | L292: KIT
A293: TUN-402 | B293: Furniture Organiser Box | D293: Furniture | E293: Furniture Inserts | F293: 38 | G293: 40 | H293: 48 | K293: 5056838922729 | L293: KIT
A294: TUN-403 | B294: 2 Compartment Furniture Organiser | D294: Furniture | E294: Furniture Inserts | F294: 38 | G294: 40 | H294: 48 | K294: 5056838922736 | L294: KIT
A295: TUN-404 | B295: 3 Compartment Furniture Organiser | D295: Furniture | E295: Furniture Inserts | F295: 38 | G295: 40 | H295: 48 | K295: 5056838922743 | L295: KIT
A296: TRG-402-MN | B296: Giorgio2 Rectangle Shower Tray 900 x 700 Black Slate | C296: Black Slate | D296: Showering | E296: Giorgio2 | F296: 42 | G296: 465 | H296: 558 | K296: 5060848442016 | L296: KIT
A297: TRG-406-GS | B297: Giorgio2 Rectangle Shower Tray 1500 x 700 Grey Slate | C297: Grey Slate | D297: Showering | E297: Giorgio2 | F297: 42 | G297: 607.5 | H297: 729 | K297: 5060485536826 | L297: KIT
A298: TRG-406-MN | B298: Giorgio2 Rectangle Shower Tray 1500 x 700 Black Slate | C298: Black Slate | D298: Showering | E298: Giorgio2 | F298: 42 | G298: 607.5 | H298: 729 | K298: 5060848442047 | L298: KIT
A299: TRG-407-MN | B299: Giorgio2 Rectangle Shower Tray 1600 x 700 Black Slate | C299: Black Slate | D299: Showering | E299: Giorgio2 | F299: 42 | G299: 635.83333 | H299: 763 | K299: 5060848442054 | L299: KIT
A300: TRG-409-GS | B300: Giorgio2 Rectangle Shower Tray 1800 x 700 Grey Slate | C300: Grey Slate | D300: Showering | E300: Giorgio2 | F300: 42 | G300: 772.5 | H300: 927 | K300: 5060485536857 | L300: KIT
A301: TRG-410-MN | B301: Giorgio2 Rectangle Shower Tray 1900 x 700 Black Slate | C301: Black Slate | D301: Showering | E301: Giorgio2 | F301: 42 | G301: 816.66667 | H301: 980 | K301: 5060848442085 | L301: KIT
A302: TRG-410-RS | B302: Giorgio2 Rectangle Shower Tray 1900 x 700 Graphite Slate | C302: Graphite Slate | D302: Showering | E302: Giorgio2 | F302: 42 | G302: 816.66667 | H302: 980 | K302: 5060848449831 | L302: KIT
A303: TRG-411-GS | B303: Giorgio2 Rectangle Shower Tray 2000 x 700 Grey Slate | C303: Grey Slate | D303: Showering | E303: Giorgio2 | F303: 42 | G303: 865 | H303: 1038 | K303: 5060485536871 | L303: KIT
A304: TRG-411-RS | B304: Giorgio2 Rectangle Shower Tray 2000 x 700 Graphite Slate | C304: Graphite Slate | D304: Showering | E304: Giorgio2 | F304: 42 | G304: 865 | H304: 1038 | K304: 5060848449848 | L304: KIT
A305: TRG-411-ST | B305: Giorgio2 Rectangle Shower Tray 2000 x 700 Soft Taupe Slate | C305: Soft Taupe Slate | D305: Showering | E305: Giorgio2 | F305: 42 | G305: 865 | H305: 1038 | K305: 5061025552092 | L305: KIT
A306: TRG-432-RS | B306: Giorgio2 Rectangle Shower Tray 900 x 800 Graphite Slate | C306: Graphite Slate | D306: Showering | E306: Giorgio2 | F306: 42 | G306: 497.5 | H306: 597 | K306: 5060848449862 | L306: KIT
A307: TRG-472-GS | B307: Giorgio2 Rectangle Shower Tray 2200 x 900 Grey Slate | C307: Grey Slate | D307: Showering | E307: Giorgio2 | F307: 42 | G307: 1202.5 | H307: 1443 | K307: 5060485537113 | L307: KIT
... A340: TRG-671-WS | B340: Giorgio Wall Panel 800 x 2400 White Slate | C340: White Slate | D340: Showering | E340: Giorgio Wall Panels | F340: 56 | G340: 334.16667 | H340: 401 | K340: 5056838916186 | L340: KIT
A341: TMO-464-MW | B341: Mont 1200 x 900 Shower Tray - Matt White | C341: Matt White | D341: Showering | E341: Mont | F341: 58 | G341: 530.83333 | H341: 637 | I341: NEW | K341: 5056838924006 | L341: KIT
A342: TMO-465-MW | B342: Mont 1400 x 900 Shower Tray - Matt White | C342: Matt White | D342: Showering | E342: Mont | F342: 58 | G342: 623.33333 | H342: 748 | I342: NEW | K342: 5056838924020 | L342: KIT
A343: TMO-466-MW | B343: Mont 1500 x 900 Shower Tray - Matt White | C343: Matt White | D343: Showering | E343: Mont | F343: 58 | G343: 685 | H343: 822 | I343: NEW | K343: 5056838924044 | L343: KIT
A344: TMO-467-MW | B344: Mont 1600 x 900 Shower Tray - Matt White | C344: Matt White | D344: Showering | E344: Mont | F344: 58 | G344: 716.66667 | H344: 860 | I344: NEW | K344: 5056838924068 | L344: KIT
A345: TMO-408-MW | B345: Mont 1700 x 700 Shower Tray - Matt White | C345: Matt White | D345: Showering | E345: Mont | F345: 58 | G345: 668.33333 | H345: 802 | I345: NEW | K345: 5056838924075 | L345: KIT
A346: TMO-438-MW | B346: Mont 1700 x 800 Shower Tray - Matt White | C346: Matt White | D346: Showering | E346: Mont | F346: 58 | G346: 710.83333 | H346: 853 | I346: NEW | K346: 5056838924099 | L346: KIT
A347: TMO-468-MW | B347: Mont 1700 x 900 Shower Tray - Matt White | C347: Matt White | D347: Showering | E347: Mont | F347: 58 | G347: 806.66667 | H347: 968 | I347: NEW | K347: 5056838924105 | L347: KIT
A348: TMO-433-RAL | B348: Mont 1000 x 800 Shower Tray - Colour | C348: Bespoke | D348: Showering | E348: Mont | F348: 58 | G348: 573.95833 | H348: 689 | I348: NEW | J348: Esclusiva | K348: #N/A | L348: KIT
A349: TMO-434-RAL | B349: Mont 1200 x 800 Shower Tray - Colour | C349: Bespoke | D349: Showering | E349: Mont | F349: 58 | G349: 618.75 | H349: 743 | I349: NEW | J349: Esclusiva | K349: #N/A | L349: KIT
A350: TMO-464-RAL | B350: Mont 1200 x 900 Shower Tray - Colour | C350: Bespoke | D350: Showering | E350: Mont | F350: 58 | G350: 663.54167 | H350: 796 | I350: NEW | J350: Esclusiva | K350: #N/A | L350: KIT
A351: TMO-435-RAL | B351: Mont 1400 x 800 Shower Tray - Colour | C351: Bespoke | D351: Showering | E351: Mont | F351: 58 | G351: 689.58333 | H351: 828 | I351: NEW | J351: Esclusiva | K351: #N/A | L351: KIT
A352: TMO-465-RAL | B352: Mont 1400 x 900 Shower Tray - Colour | C352: Bespoke | D352: Showering | E352: Mont | F352: 58 | G352: 779.16667 | H352: 935 | I352: NEW | J352: Esclusiva | K352: #N/A | L352: KIT
A353: TMO-436-RAL | B353: Mont 1500 x 800 Shower Tray - Colour | C353: Bespoke | D353: Showering | E353: Mont | F353: 58 | G353: 727.08333 | H353: 873 | I353: NEW | J353: Esclusiva | K353: #N/A | L353: KIT
A354: TMO-466-RAL | B354: Mont 1500 x 900 Shower Tray - Colour | C354: Bespoke | D354: Showering | E354: Mont | F354: 58 | G354: 856.25 | H354: 1028 | I354: NEW | J354: Esclusiva | K354: #N/A | L354: KIT
A355: TMO-437-RAL | B355: Mont 1600 x 800 Shower Tray - Colour | C355: Bespoke | D355: Showering | E355: Mont | F355: 58 | G355: 782.29167 | H355: 939 | I355: NEW | J355: Esclusiva | K355: #N/A | L355: KIT
A356: TMO-467-RAL | B356: Mont 1600 x 900 Shower Tray - Colour | C356: Bespoke | D356: Showering | E356: Mont | F356: 58 | G356: 895.83333 | H356: 1075 | I356: NEW | J356: Esclusiva | K356: #N/A | L356: KIT
A357: TMO-408-RAL | B357: Mont 1700 x 700 Shower Tray - Colour | C357: Bespoke | D357: Showering | E357: Mont | F357: 58 | G357: 835.41667 | H357: 1003 | I357: NEW | J357: Esclusiva | K357: #N/A | L357: KIT
A358: TMO-568-RAL | B358: Mont 1700 x 750 Shower Tray - Colour | C358: Bespoke | D358: Showering | E358: Mont | F358: 58 | G358: 860.41667 | H358: 1033 | I358: NEW | J358: Esclusiva | K358: #N/A | L358: KIT
A359: TMO-438-RAL | B359: Mont 1700 x 800 Shower Tray - Colour | C359: Bespoke | D359: Showering | E359: Mont | F359: 58 | G359: 888.54167 | H359: 1066 | I359: NEW | J359: Esclusiva | K359: #N/A | L359: KIT
... A362: TMO-469-RAL | B362: Mont 1800 x 900 Shower Tray - Colour | C362: Bespoke | D362: Showering | E362: Mont | F362: 58 | G362: 1071.875 | H362: 1286 | I362: NEW | J362: Esclusiva | K362: #N/A | L362: KIT
A363: TFZ-108-WM | B363: Finezza 1700 x 700 Shower Tray - White Marble | C363: White Marble | D363: Showering | E363: Finezza | F363: 62 | G363: 670 | H363: 804 | J363: Esclusiva | K363: 5060848440975 | L363: KIT
A364: TFZ-147-WM | B364: Finezza 1600 x 800 Shower Tray - White Marble | C364: White Marble | D364: Showering | E364: Finezza | F364: 62 | G364: 685 | H364: 822 | J364: Esclusiva | K364: 5060848441019 | L364: KIT
A365: TFZ-149-WM | B365: Finezza 1800 x 800 Shower Tray - White Marble | C365: White Marble | D365: Showering | E365: Finezza | F365: 62 | G365: 788.33333 | H365: 946 | J365: Esclusiva | K365: 5060848441033 | L365: KIT
A366: TFZ-169-WM | B366: Finezza 1800 x 900 Shower Tray - White Marble | C366: White Marble | D366: Showering | E366: Finezza | F366: 62 | G366: 974.16667 | H366: 1169 | J366: Esclusiva | K366: 5060848441088 | L366: KIT
A367: TFO-411 | B367: Fiorti Rectangular 1000 x 700 Shower Tray - White | C367: White | D367: Showering | E367: Fiorti | F367: 64 | G367: 245 | H367: 294 | K367: 5056838916667 | L367: KIT
A368: TFO-416 | B368: Fiorti Rectangular 1100 x 700 Shower Tray - White | C368: White | D368: Showering | E368: Fiorti | F368: 64 | G368: 265.83333 | H368: 319 | K368: 5056838916711 | L368: KIT
A369: TFO-601 | B369: Fiorti Quadrant Tray 700x700x40mm | C369: White | D369: Showering | E369: Fiorti | F369: 64 | G369: 190.83333 | H369: 229 | K369: 5056838922446 | L369: KIT
A370: TTV-910-BB | B370: Tavo 1000mm Clear Glass Front Panel with Corner Profile - Brushed Brass | C370: Brushed Brass | D370: Showering | E370: Tavo | F370: 68 | G370: 397.5 | H370: 477 | J370: Esclusiva | K370: 5061025558797 | L370: KIT
A371: TTV-910-BN | B371: Tavo 1000mm Clear Glass Front Panel with Corner Profile - Brushed Nickel | C371: Brushed Nickel | D371: Showering | E371: Tavo | F371: 68 | G371: 367.5 | H371: 441 | J371: Esclusiva | K371: 5056838920374 | L371: KIT
A372: TTV-910-CP | B372: Tavo 1000mm Clear Glass Front Panel with Corner Profile - Chrome | C372: Chrome | D372: Showering | E372: Tavo | F372: 68 | G372: 348.33333 | H372: 418 | J372: Esclusiva | K372: 5061025558773 | L372: KIT
A373: TTV-910-MN | B373: Tavo 1000mm Clear Glass Front Panel with Corner Profile - Matt Black | C373: Matt Black | D373: Showering | E373: Tavo | F373: 68 | G373: 367.5 | H373: 441 | J373: Esclusiva | K373: 5061025558780 | L373: KIT
A374: TTV-310-BB | B374: Tavo 1000mm Clear Glass Front Panel with Wall Profile & 1200mm Arm - Brushed Brass | C374: Brushed Brass | D374: Showering | E374: Tavo | F374: 68 | G374: 520 | H374: 624 | J374: Esclusiva | K374: 5061025556069 | L374: KIT
A375: TTV-310-BN | B375: Tavo 1000mm Clear Glass Front Panel with Wall Profile & 1200mm Arm - Brushed Nickel | C375: Brushed Nickel | D375: Showering | E375: Tavo | F375: 68 | G375: 480.83333 | H375: 577 | J375: Esclusiva | K375: 5056838920367 | L375: KIT
A376: TTV-310-CP | B376: Tavo 1000mm Clear Glass Front Panel with Wall Profile & 1200mm Arm - Chrome | C376: Chrome | D376: Showering | E376: Tavo | F376: 68 | G376: 447.5 | H376: 537 | J376: Esclusiva | K376: 5061025556045 | L376: KIT
A377: TTV-310-MN | B377: Tavo 1000mm Clear Glass Front Panel with Wall Profile & 1200mm Arm - Matt Black | C377: Matt Black | D377: Showering | E377: Tavo | F377: 68 | G377: 480.83333 | H377: 577 | J377: Esclusiva | K377: 5061025556052 | L377: KIT
A378: TTV-310-BB-2M | B378: Tavo 1000mm Clear Glass Front Panel with Wall Profile & 2000mm Arm - Brushed Brass | C378: Brushed Brass | D378: Showering | E378: Tavo | F378: 68 | G378: 563.33333 | H378: 676 | J378: Esclusiva | K378: 5061025556847 | L378: KIT
A379: TTV-310-BN-2M | B379: Tavo 1000mm Clear Glass Front Panel with Wall Profile & 2000mm Arm - Brushed Nickel | C379: Brushed Nickel | D379: Showering | E379: Tavo | F379: 68 | G379: 524.16667 | H379: 629 | J379: Esclusiva | K379: 5056838920350 | L379: KIT
A380: TTV-310-CP-2M | B380: Tavo 1000mm Clear Glass Front Panel with Wall Profile & 2000mm Arm - Chrome | C380: Chrome | D380: Showering | E380: Tavo | F380: 68 | G380: 490.83333 | H380: 589 | J380: Esclusiva | K380: 5061025556823 | L380: KIT
A381: TTV-310-MN-2M | B381: Tavo 1000mm Clear Glass Front Panel with Wall Profile & 2000mm Arm - Matt Black | C381: Matt Black | D381: Showering | E381: Tavo | F381: 68 | G381: 524.16667 | H381: 629 | J381: Esclusiva | K381: 5061025556830 | L381: KIT
... A633: TTV-712-MN-GT | B633: Tavo 1200mm Grey Glass Walkthrough Screen with Stabilising Bar - Matt Black | C633: Matt Black | D633: Showering | E633: Tavo | F633: 68 | G633: 605.83333 | H633: 727 | J633: Esclusiva | K633: 5056838901069 | L633: KIT
A634: TTV-613-BN | B634: Tavo 1300mm Clear Glass Front Panel .w Wall Profile & Glass to Ceiling Arm-Brushed Nickel | C634: Brushed Nickel | D634: Showering | E634: Tavo | F634: 68 | G634: 574.16667 | H634: 689 | I634: NEW | J634: Esclusiva | K634: 5056838924198 | L634: KIT
A635: TTV-613-BB-FC | B635: Tavo 1300mm Clear Glass Front Panel w. Wall Profile & Floor to Ceiling Arm - Brushed Brass | C635: Brushed Brass | D635: Showering | E635: Tavo | F635: 68 | G635: 670 | H635: 804 | I635: NEW | J635: Esclusiva | K635: 5056838924204 | L635: KIT
A636: TTV-613-BN-FC | B636: Tavo 1300mm Clear Glass Front Panel w. Wall Profile & Floor to Ceiling Arm-Brushed Nickel | C636: Brushed Nickel | D636: Showering | E636: Tavo | F636: 68 | G636: 617.5 | H636: 741 | I636: NEW | J636: Esclusiva | K636: 5056838924211 | L636: KIT
A637: TTV-613-BB | B637: Tavo 1300mm Clear Glass Front Panel w. Wall Profile & Glass to Ceiling Arm - Brushed Brass | C637: Brushed Brass | D637: Showering | E637: Tavo | F637: 68 | G637: 628.33333 | H637: 754 | I637: NEW | J637: Esclusiva | K637: 5056838924228 | L637: KIT
A638: TTV-313-BB | B638: Tavo 1300mm Clear Glass Front Panel with Wall Profile & 1200mm Arm - Brushed Brass | C638: Brushed Brass | D638: Showering | E638: Tavo | F638: 68 | G638: 670.83333 | H638: 805 | I638: NEW | J638: Esclusiva | K638: 5056838924235 | L638: KIT
A639: TTV-313-BN | B639: Tavo 1300mm Clear Glass Front Panel with Wall Profile & 1200mm Arm - Brushed Nickel | C639: Brushed Nickel | D639: Showering | E639: Tavo | F639: 68 | G639: 614.16667 | H639: 737 | I639: NEW | J639: Esclusiva | K639: 5056838924242 | L639: KIT
A640: TTV-313-CP | B640: Tavo 1300mm Clear Glass Front Panel with Wall Profile & 1200mm Arm - Chrome | C640: Chrome | D640: Showering | E640: Tavo | F640: 68 | G640: 580.83333 | H640: 697 | I640: NEW | J640: Esclusiva | K640: 5056838924259 | L640: KIT
A641: TTV-313-MN | B641: Tavo 1300mm Clear Glass Front Panel with Wall Profile & 1200mm Arm - Matt Black | C641: Matt Black | D641: Showering | E641: Tavo | F641: 68 | G641: 614.16667 | H641: 737 | I641: NEW | J641: Esclusiva | K641: 5056838924266 | L641: KIT
A642: TTV-313-BB-2M | B642: Tavo 1300mm Clear Glass Front Panel with Wall Profile & 2000mm Arm - Brushed Brass | C642: Brushed Brass | D642: Showering | E642: Tavo | F642: 68 | G642: 714.16667 | H642: 857 | I642: NEW | J642: Esclusiva | K642: 5056838924273 | L642: KIT
A643: TTV-313-BN-2M | B643: Tavo 1300mm Clear Glass Front Panel with Wall Profile & 2000mm Arm - Brushed Nickel | C643: Brushed Nickel | D643: Showering | E643: Tavo | F643: 68 | G643: 657.5 | H643: 789 | I643: NEW | J643: Esclusiva | K643: 5056838924280 | L643: KIT
A644: TTV-313-CP-2M | B644: Tavo 1300mm Clear Glass Front Panel with Wall Profile & 2000mm Arm - Chrome | C644: Chrome | D644: Showering | E644: Tavo | F644: 68 | G644: 624.16667 | H644: 749 | I644: NEW | J644: Esclusiva | K644: 5056838924297 | L644: KIT
A645: TTV-313-MN-2M | B645: Tavo 1300mm Clear Glass Front Panel with Wall Profile & 2000mm Arm - Matt Black | C645: Matt Black | D645: Showering | E645: Tavo | F645: 68 | G645: 657.5 | H645: 789 | I645: NEW | J645: Esclusiva | K645: 5056838924303 | L645: KIT
... A705: TTV-713-MN-GT | B705: Tavo 1300mm Grey Glass Walkthrough Screen with Stabilising Bar - Matt Black | C705: Matt Black | D705: Showering | E705: Tavo | F705: 68 | G705: 677.5 | H705: 813 | I705: NEW | J705: Esclusiva | K705: 5056838924907 | L705: KIT
A706: TTV-314-BB | B706: Tavo 1400mm Clear Glass Front Panel with Wall Profile & 1200mm Arm - Brushed Brass | C706: Brushed Brass | D706: Showering | E706: Tavo | F706: 68 | G706: 636.66667 | H706: 764 | J706: Esclusiva | K706: 5061025556151 | L706: KIT
A707: TTV-314-BN | B707: Tavo 1400mm Clear Glass Front Panel with Wall Profile & 1200mm Arm - Brushed Nickel | C707: Brushed Nickel | D707: Showering | E707: Tavo | F707: 68 | G707: 589.16667 | H707: 707 | J707: Esclusiva | K707: 5056838919705 | L707: KIT
A708: TTV-314-CP | B708: Tavo 1400mm Clear Glass Front Panel with Wall Profile & 1200mm Arm - Chrome | C708: Chrome | D708: Showering | E708: Tavo | F708: 68 | G708: 555.83333 | H708: 667 | J708: Esclusiva | K708: 5061025556137 | L708: KIT
A709: TTV-314-MN | B709: Tavo 1400mm Clear Glass Front Panel with Wall Profile & 1200mm Arm - Matt Black | C709: Matt Black | D709: Showering | E709: Tavo | F709: 68 | G709: 589.16667 | H709: 707 | J709: Esclusiva | K709: 5061025556144 | L709: KIT
A710: TTV-314-BB-2M | B710: Tavo 1400mm Clear Glass Front Panel with Wall Profile & 2000mm Arm - Brushed Brass | C710: Brushed Brass | D710: Showering | E710: Tavo | F710: 68 | G710: 680 | H710: 816 | J710: Esclusiva | K710: 5061025556939 | L710: KIT
A711: TTV-314-BN-2M | B711: Tavo 1400mm Clear Glass Front Panel with Wall Profile & 2000mm Arm - Brushed Nickel | C711: Brushed Nickel | D711: Showering | E711: Tavo | F711: 68 | G711: 632.5 | H711: 759 | J711: Esclusiva | K711: 5056838919699 | L711: KIT
A712: TTV-314-CP-2M | B712: Tavo 1400mm Clear Glass Front Panel with Wall Profile & 2000mm Arm - Chrome | C712: Chrome | D712: Showering | E712: Tavo | F712: 68 | G712: 599.16667 | H712: 719 | J712: Esclusiva | K712: 5061025556915 | L712: KIT
...
